BEGIN:VCALENDAR
VERSION:2.0
PRODID:-//wp-events-plugin.com//7.2.3.1//EN
TZID:Europe/Warsaw
X-WR-TIMEZONE:Europe/Warsaw
BEGIN:VEVENT
UID:26255@night4u.pl
DTSTART;TZID=Europe/Warsaw:20190914T210000
DTEND;TZID=Europe/Warsaw:20190915T040000
DTSTAMP:20190903T191025Z
URL:https://night4u.pl/wydarzenia/14-09-highway-to-hell/
SUMMARY:14.09 / Highway to Hell
DESCRIPTION:Highway To Hell to noc w formule open format\, zagramy sporo rn
 'b\, elektroniki i rock'n'rolla.\nBędzie to najbardziej party rocker'ska 
 impreza w Rzeszowie❗️\n\nWidzimy się❗️??\nMusic by:\nDJ MATI\nDJ 
 STORM\n_____________________\nSOBOTA 14.09.2019\nStart 21:00 / obowiązuje
  selekcja\nRezerwacje: +48 533 760 769\nWstęp - 20 pln\n\n*Do 22:00 - Lis
 ta FB (kliknij "wezmę udział")\nListę zamykamy o godzinie 20:00
ATTACH;FMTTYPE=image/jpeg:https://night4u.pl/wp-content/uploads/2019/09/61
 343_image_68643876_2449119261837710_588838860935397376_o.jpg
CATEGORIES:podkarpackie
LOCATION:\, \, 
X-APPLE-STRUCTURED-LOCATION;VALUE=URI;X-ADDRESS=\, ;X-APPLE-RADIUS=100;X-TI
 TLE=:geo:0,0
END:VEVENT
BEGIN:VTIMEZONE
TZID:Europe/Warsaw
X-LIC-LOCATION:Europe/Warsaw
BEGIN:DAYLIGHT
DTSTART:20190331T030000
TZOFFSETFROM:+0100
TZOFFSETTO:+0200
TZNAME:CEST
END:DAYLIGHT
END:VTIMEZONE
END:VCALENDAR