BEGIN:VCALENDAR
VERSION:2.0
PRODID:-//wp-events-plugin.com//7.2.3.1//EN
TZID:Europe/Warsaw
X-WR-TIMEZONE:Europe/Warsaw
BEGIN:VEVENT
UID:39322@night4u.pl
DTSTART;TZID=Europe/Warsaw:20191214T210000
DTEND;TZID=Europe/Warsaw:20191215T040000
DTSTAMP:20191214T224821Z
URL:https://night4u.pl/wydarzenia/14-12-%e2%98%85-zilionowy-sledzik-%e2%98
 %85-wigilijna-integracja-klubowiczow-%e2%98%85/
SUMMARY:14.12 ★ Zilionowy Śledzik ★ Wigilijna Integracja Klubowiczów 
 ★
DESCRIPTION:🎉 SOBOTA - 14.12.2019 🎉\n👉 Zilion CLUB - Wrzelowiec\n\
 nDrodzy Klubowicze❗\nCzas na ostatnią imprezę przed Świętami Bożego
  Narodzenia❗\n\n🏮 ZILIONOWY ŚLEDZIK 🏮\n➡ Wigilijna Integracja K
 lubowiczów\n\n💢 Serdecznie Zapraszamy wszystkich stałych bywalców na
 szego lokalu na Klubową Wigilie 2019❗\n💓 Z racji zbliżających się
  Świąt\, łączymy rodzinę\, którą tworzymy w każdą Sobotę roku\, 
 niezmiennie od 25 lat❗\n\n💥 Dodatkowo tej nocy do waszej dyspozycji d
 omowe dania ze Stołu Wigilijnego❗ 🥧🍲🥗\n_______________________
 _____\n🚧 REZYDENCI 🚧\n\n🔊 Sala KLUBOWA : 🔴 DJ Lechu 🔴 DJ HU
 DY\n🔊 Sala DANCE : 🔴 DJ Goryl\n____________________________\n⏰ STA
 RT - 21:00\n📸 FOTORELACJA\n♥ ♥ ♥ ♥ ♥ ♥ ♥ ♥ ♥\nDO ZOBA
 CZENIA W ZILIONIE❗😍😍
ATTACH;FMTTYPE=image/jpeg:https://night4u.pl/wp-content/uploads/2019/12/11
 5290_image_79292518_2903043489708922_2414998512119840768_o.jpg
CATEGORIES:lubelskie
LOCATION:Zilion CLUB - Wrzelowiec\, ul. Opolska 3\, Wrzelowiec\, 24-320\, P
 oland
GEO:51.097745;21.932795
X-APPLE-STRUCTURED-LOCATION;VALUE=URI;X-ADDRESS=ul. Opolska 3\, Wrzelowiec\
 , 24-320\, Poland;X-APPLE-RADIUS=100;X-TITLE=Zilion CLUB - Wrzelowiec:geo:
 51.097745,21.932795
END:VEVENT
BEGIN:VTIMEZONE
TZID:Europe/Warsaw
X-LIC-LOCATION:Europe/Warsaw
BEGIN:STANDARD
DTSTART:20191027T020000
TZOFFSETFROM:+0200
TZOFFSETTO:+0100
TZNAME:CET
END:STANDARD
END:VTIMEZONE
END:VCALENDAR