BEGIN:VCALENDAR
VERSION:2.0
PRODID:-//wp-events-plugin.com//7.2.3.1//EN
TZID:Europe/Warsaw
X-WR-TIMEZONE:Europe/Warsaw
BEGIN:VEVENT
UID:38719@night4u.pl
DTSTART;TZID=Europe/Warsaw:20191214T220000
DTEND;TZID=Europe/Warsaw:20191215T040000
DTSTAMP:20191215T004246Z
URL:https://night4u.pl/wydarzenia/14-12-%e2%9c%a6-swiateczna-rozgrzewka-%e
 2%9c%a6-darmowe-wejscie-fotobudka/
SUMMARY:14/12 ✦ Świąteczna Rozgrzewka ✦ Darmowe wejście | Fotobudka
DESCRIPTION:Zapraszamy na sobotnią imprezkę\, tuż przed Świętami. Jest
  to dobry moment by zrelaksować się przed gorączką świątecznych przy
 gotowań ❤️\n\nALL WE WANT FOR CHRISTMAS IS GOOD PARTY!\n\n☛ DARMOWA
  FOTOBUDKA NA WEJŚCIU !\n\n❌ WSTĘP ❌\ndo 23.00 free\nod 23.00 do 00.
 00 lista fb free (kliknij "wezmę udział" w wydarzeniu)\nreszta 10pln\n\n
 BILET VIP- wstęp  free całą noc\nWypatrujcie naszych hostess na mieści
 e\n★★★★★★★★★★★★★★★★★★★★★★★
 ★★★★★★★\n► Miejsce: Elixir Club ul. Lipowa 30 🎉\n\n► 
 Data: 14.12.2019 🔜 SOBOTA\n\n► Start: 22:00 🔥\n\n► Dresscode: el
 egant/no-sport. 💃\n\n► WEJŚCIE 18+\n\nRezerwacja stolików: 570-590-
 120\n———————————————————————
 —-\nKlub zastrzega prawo do selekcji gości. Wchodząc\, akceptujesz reg
 ulamin klubu (m.in publikowanie zdjęć i filmów).
ATTACH;FMTTYPE=image/jpeg:https://night4u.pl/wp-content/uploads/2019/12/11
 1188_image_78708556_2698267430237764_7401024826275528704_n.jpg
CATEGORIES:podlaskie
LOCATION:Elixir Club\, ul. Lipowa 30\, Białystok\, 15-427\, Poland
GEO:53.13423;23.1484
X-APPLE-STRUCTURED-LOCATION;VALUE=URI;X-ADDRESS=ul. Lipowa 30\, Białystok\
 , 15-427\, Poland;X-APPLE-RADIUS=100;X-TITLE=Elixir Club:geo:53.13423,23.1
 484
END:VEVENT
BEGIN:VTIMEZONE
TZID:Europe/Warsaw
X-LIC-LOCATION:Europe/Warsaw
BEGIN:STANDARD
DTSTART:20191027T020000
TZOFFSETFROM:+0200
TZOFFSETTO:+0100
TZNAME:CET
END:STANDARD
END:VTIMEZONE
END:VCALENDAR