BEGIN:VCALENDAR
VERSION:2.0
PRODID:-//wp-events-plugin.com//7.2.3.1//EN
TZID:Europe/Warsaw
X-WR-TIMEZONE:Europe/Warsaw
BEGIN:VEVENT
UID:39317@night4u.pl
DTSTART;TZID=Europe/Warsaw:20191214T210000
DTEND;TZID=Europe/Warsaw:20191215T040000
DTSTAMP:20191214T224313Z
URL:https://night4u.pl/wydarzenia/14-12-chelm-by-night-%e2%98%85-resident-
 night/
SUMMARY:14.12/Chełm by Night ★ Resident Night
DESCRIPTION:Kochani!\nKolejny weekend i znowu My\, specjalnie dla Was z nas
 tępną niezapomnianą imprezą. Będzie to  uderzenie najlepszych muzyczn
 ych brzmień \, które zagrają  nasi rezydenci. W sobotę czeka Was dług
 a i taneczna noc.\nJak co weekend\, melanż zaczynamy od 21:00!\n\n★ Gro
 und Club ★ [Pl. Łuczkowskiego 11]\n\n➡ Data: 14 grudnia \n➡ Wstęp 
 10zł\n✅ Dress: Smart Casual (luźno\, ale z klasą)\n✅ Wstęp: 18+\nD
 j's :\n❌ Ground Residents\n\nRezerwacje miejsc:\n☎ 668152208\n\nTo jak
 ? Widzimy się na miejscu?
ATTACH;FMTTYPE=image/jpeg:https://night4u.pl/wp-content/uploads/2019/12/11
 5277_image_80387262_2593186990747005_1607688773804490752_n.jpg
CATEGORIES:lubelskie
LOCATION:Ground Club\, Pl Łuczkowskiego 11\, Chełm\, 22-100\, Poland
GEO:51.13286;23.47388
X-APPLE-STRUCTURED-LOCATION;VALUE=URI;X-ADDRESS=Pl Łuczkowskiego 11\, Che
 łm\, 22-100\, Poland;X-APPLE-RADIUS=100;X-TITLE=Ground Club:geo:51.13286,
 23.47388
END:VEVENT
BEGIN:VTIMEZONE
TZID:Europe/Warsaw
X-LIC-LOCATION:Europe/Warsaw
BEGIN:STANDARD
DTSTART:20191027T020000
TZOFFSETFROM:+0200
TZOFFSETTO:+0100
TZNAME:CET
END:STANDARD
END:VTIMEZONE
END:VCALENDAR