BEGIN:VCALENDAR
VERSION:2.0
PRODID:-//wp-events-plugin.com//7.2.3.1//EN
TZID:Europe/Warsaw
X-WR-TIMEZONE:Europe/Warsaw
BEGIN:VEVENT
UID:39541@night4u.pl
DTSTART;TZID=Europe/Warsaw:20191214T210000
DTEND;TZID=Europe/Warsaw:20191215T040000
DTSTAMP:20191215T004630Z
URL:https://night4u.pl/wydarzenia/14-12-residents-night/
SUMMARY:14.12 / Residents Night
DESCRIPTION:Residents Night to noc\, podczas której będziecie mieli okazj
 ę wsłuchać się w dźwięki naszych rezydentów 🔥\nWidzimy się!\n\n
 Music by:\nDJ MATI\nDJ Ramzes\n_____________________\nSOBOTA 14.12.2019\nS
 tart 21:00 / obowiązuje selekcja / wstęp od 21 lat\nRezerwacje: +48 533 
 760 769\nWstęp - 20 pln\n\n*Do 22:00 - Lista FB (kliknij "wezmę udział"
 )\nListę zamykamy o godzinie 20:00
ATTACH;FMTTYPE=image/jpeg:https://night4u.pl/wp-content/uploads/2019/12/11
 6892_image_77347375_2681998405216460_6311446255264333824_o.jpg
CATEGORIES:podkarpackie
LOCATION:Piekiełko\, Al. Piłsudskiego 44\, Rzeszów\, 35-001\, Poland
GEO:50.041944;21.998256
X-APPLE-STRUCTURED-LOCATION;VALUE=URI;X-ADDRESS=Al. Piłsudskiego 44\, Rzes
 zów\, 35-001\, Poland;X-APPLE-RADIUS=100;X-TITLE=Piekiełko:geo:50.041944
 ,21.998256
END:VEVENT
BEGIN:VTIMEZONE
TZID:Europe/Warsaw
X-LIC-LOCATION:Europe/Warsaw
BEGIN:STANDARD
DTSTART:20191027T020000
TZOFFSETFROM:+0200
TZOFFSETTO:+0100
TZNAME:CET
END:STANDARD
END:VTIMEZONE
END:VCALENDAR