BEGIN:VCALENDAR
VERSION:2.0
PRODID:-//wp-events-plugin.com//7.2.3.1//EN
TZID:Europe/Warsaw
X-WR-TIMEZONE:Europe/Warsaw
BEGIN:VEVENT
UID:42584@night4u.pl
DTSTART;TZID=Europe/Warsaw:20200115T212500
DTEND;TZID=Europe/Warsaw:20200116T040000
DTSTAMP:20200115T231000Z
URL:https://night4u.pl/wydarzenia/15-01-polskie-wesele-studencka-sroda-lis
 ta-fb-free/
SUMMARY:15.01 | Polskie Wesele \\ Studencka Środa  lista FB Free
DESCRIPTION:Powiedz nam – „TAK”!\n\nNikomu nie każemy żegnać się 
 z wolnością\, ponieważ studenckie środy w UV są po to\, by uwolnić z
 mysły\, lecz mamy sympatyczny personel – kelnerki w sukienkach i barman
 ów w perfekcyjnie wyprasowanych koszulach #jaknaweselu….\n\nCo najważn
 iejsze – mamy też zimną wódkę i muzykę do tańczenia - #jaknaweselu
 . Dlatego też nie możecie odmówić tej jakże zacnej i wiekopomnej chwi
 li\, ponieważ ugościmy Was tej nocy jak żaden dom weselny.\n\nDziewczyn
 o - jeśli szukasz partnera na całe życie\, bądź czujna - będzie welo
 n. Będą też oczepiny\, gry i zabawa\, a wszystko umieścimy na kaseciak
 u VHS – żeby dziadkowie mieli na pamiątkę. Będzie SIĘ DZIAŁO!\n\nK
 lub UV\, Samorząd Studencki Politechniki Świętkorzyskiej i Państwo mł
 odzi zapraszają! Niech Wam się wiedzie!\n\n-----------------------------
 -------------\n\nPOLSKIE WESELE W UV &lt\;3\n\n⭐ Drzwi otwieramy o godzi
 nie 21 \n⭐ lista FB FREE  obowiązuje do godziny   22 | następnie wejś
 cie po cenie 10 pln ( studenci ) / 20 PLN reszta świata \n⭐ Muzykę zas
 erwują nasi rezydenci &quot\;pod krawatem&quot\;\n⭐ Klub zastrzega sobi
 e prawo do selekcji gości
ATTACH;FMTTYPE=image/jpeg:https://night4u.pl/wp-content/uploads/2020/01/13
 4539_image_81317873_2656525411061339_2348428769594703872_o.jpg
CATEGORIES:świętokrzyskie
LOCATION:UltraViolet - Exclusive Club\, ul. Sienkiewicza 33\, Kielce\, 25-0
 05\, Poland
GEO:50.87148;20.62637
X-APPLE-STRUCTURED-LOCATION;VALUE=URI;X-ADDRESS=ul. Sienkiewicza 33\, Kielc
 e\, 25-005\, Poland;X-APPLE-RADIUS=100;X-TITLE=UltraViolet - Exclusive Clu
 b:geo:50.87148,20.62637
END:VEVENT
BEGIN:VTIMEZONE
TZID:Europe/Warsaw
X-LIC-LOCATION:Europe/Warsaw
BEGIN:STANDARD
DTSTART:20191027T020000
TZOFFSETFROM:+0200
TZOFFSETTO:+0100
TZNAME:CET
END:STANDARD
END:VTIMEZONE
END:VCALENDAR