BEGIN:VCALENDAR
VERSION:2.0
PRODID:-//wp-events-plugin.com//7.2.3.1//EN
TZID:Europe/Warsaw
X-WR-TIMEZONE:Europe/Warsaw
BEGIN:VEVENT
UID:42586@night4u.pl
DTSTART;TZID=Europe/Warsaw:20200115T210000
DTEND;TZID=Europe/Warsaw:20200116T020000
DTSTAMP:20200109T232124Z
URL:https://night4u.pl/wydarzenia/15-01-sroda-playboys/
SUMMARY:15.01 (środa) - Playboys
DESCRIPTION:15.01.2020 (środa) koncert zespołu 😍PLAYBOYS😍\nhttps://
 www.facebook.com/playboooys/\n\nPo udanej zabawie w Studziankach nie zwaln
 iamy tempa i specjalnie dla Was z okazji ferii zimowych organizujemy kolej
 ny melanż z zespołem na który Wszyscy czekacie :)\n\n15.01 (środa\, fe
 rie zimowe) - zespół PLAYBOYS. Usłyszycie mi. hity na żywo:😜\n- Ja 
 w To Nie Wierzę\n- Lejde\n- Wchodzę Na Parkiet\n- Nasza Noc\n- Jak To Si
 ę Stało\n- Dotykać Całować\n- Zwariowałem\n\nUdostępnij plakat. We
 ź udział w wydarzeniu: https://www.facebook.com/events/2933713669986064/
 \n\nW programie sesja zdjęciowa oraz autografy i pamiątki od gwiazdy wie
 czoru.👍\n\nZagrają:\n- DJ FRESH\n- K-TRONIC\n\nStart: 21.00. ZAPRASZAM
 Y!
ATTACH;FMTTYPE=image/jpeg:https://night4u.pl/wp-content/uploads/2020/01/13
 4547_image_81450792_2962849567095161_1752971600279371776_o.jpg
CATEGORIES:lubelskie
END:VEVENT
BEGIN:VTIMEZONE
TZID:Europe/Warsaw
X-LIC-LOCATION:Europe/Warsaw
BEGIN:STANDARD
DTSTART:20191027T020000
TZOFFSETFROM:+0200
TZOFFSETTO:+0100
TZNAME:CET
END:STANDARD
END:VTIMEZONE
END:VCALENDAR