BEGIN:VCALENDAR
VERSION:2.0
PRODID:-//wp-events-plugin.com//7.2.3.1//EN
TZID:Europe/Warsaw
X-WR-TIMEZONE:Europe/Warsaw
BEGIN:VEVENT
UID:44801@night4u.pl
DTSTART;TZID=Europe/Warsaw:20200215T210000
DTEND;TZID=Europe/Warsaw:20200216T050000
DTSTAMP:20200215T161055Z
URL:https://night4u.pl/wydarzenia/15-02-sobota-%e2%98%85-vixo-walentynki-%
 e2%98%85-live-mix-gazell-%e2%98%85-imperium/
SUMMARY:15/02 Sobota ★ Vixo Walentynki ★ NO FACE + Tancerki ★ Imperiu
 m
DESCRIPTION:15/02 Sobota  ★ Vixo Walentynki  ★ No Face + Tancerki No Fa
 ce Girls ★ IMPERIUM Bolesławiec.\nDla wszystkich zakochanych rozdajemy 
 słodkie niespodzianki!!!\nTo już pewne\, że w najbliższą sobotę 15/0
 2 zawita jeden z większych polskich producentów muzyki klubowej NO FACE.
  Ale to nie wszystko. Wraz z Nim pojawią się piękne\, zmysłowe i sekso
 wne tancerki No Face Girls!!! Nie możecie takiej imprezy przegapić. Zapr
 aszamy na TURBO MELANŻ z NO FACE!!!\n★ Panie piją shoty przez całą n
 oc za FREE!!!\n★ Do godz.23 wstęp 1 PLN!!!\n★ Efekty zmrożonego Co2\
 n★ Rezerwacja loży tel. 605436373.\n\nUWAGA zakochani!!!\nChcesz otrzym
 ać wstęp dla zakochanej pary\, lożę i pakiet startowy (%)  na mega imp
 rezę: sobota 15/02 - NO FACE .\nWystarczy napisać w komentarzu z kim bę
 dziecie imprezować i opublikować na swoim FB.\nBądźcie czujni - wyniki
  w sobotę 15/02 o godz.19.
ATTACH;FMTTYPE=image/jpeg:https://night4u.pl/wp-content/uploads/2020/01/14
 4906_image_83064545_2961989850478010_6081867016203927552_o.jpg
CATEGORIES:dolnośląskie
LOCATION:Klub Imperium\, ul. Gdańska 29\, Bolesławiec\, 59-700\, Poland
GEO:51.260342;15.55112
X-APPLE-STRUCTURED-LOCATION;VALUE=URI;X-ADDRESS=ul. Gdańska 29\, Bolesław
 iec\, 59-700\, Poland;X-APPLE-RADIUS=100;X-TITLE=Klub Imperium:geo:51.2603
 42,15.55112
END:VEVENT
BEGIN:VTIMEZONE
TZID:Europe/Warsaw
X-LIC-LOCATION:Europe/Warsaw
BEGIN:STANDARD
DTSTART:20191027T020000
TZOFFSETFROM:+0200
TZOFFSETTO:+0100
TZNAME:CET
END:STANDARD
END:VTIMEZONE
END:VCALENDAR