BEGIN:VCALENDAR
VERSION:2.0
PRODID:-//wp-events-plugin.com//7.2.3.1//EN
TZID:Europe/Warsaw
X-WR-TIMEZONE:Europe/Warsaw
BEGIN:VEVENT
UID:6441@night4u.pl
DTSTART;TZID=Europe/Warsaw:20190215T210000
DTEND;TZID=Europe/Warsaw:20190216T050000
DTSTAMP:20190205T173455Z
URL:https://night4u.pl/wydarzenia/15-02-wesele-w-bajce-3/
SUMMARY:15.02 - Wesele w Bajce
DESCRIPTION:Bajka Disco Club to rozpoznawalna marka klubowa w całym kraju.
  Obecnie są to 3 gorące punkty w Łodzi\, Rzeszowie oraz Toruniu. Kluby 
 te charakteryzuje ujednolicona scenografia oraz spójność muzyczna. Serc
 em każdego lokalu jest oczywiście sterowna podłoga wraz ze ścianą. Im
 prezowe piątki oraz soboty to koncerty największych gwiazd sceny disco p
 olo & dance oraz wysokiej klasy imprezy tematyczne.\n\nWitajcie w naszej B
 ajce!\n\n15.02 - WESELE W BAJCE\n\nBajkowicze specjalnie na Waszą prośb
 ę po raz kolejny odpalamy Wasz jeden z ulubionych cykli imprezowych pod t
 ytułem: Wesele w Bajce. Co się za nim kryje sprawdźcie w opisie poniże
 j:\n\nW programie imprezy: zespół weselny\, zabawy z dj'em\, wodzirej\, 
 prawdziwa para młoda oraz to na co czekacie najbardziej\, czyli oczepiny 
  :D To będzie niecodzienna noc\, którą warto spędzić u nas \;) Moc at
 rakcji\, wiele uśmiechu i dobra zabawa. To podstawa wesela w Bajce. Do zo
 baczenia!\n\nImprezy nakręcą nasi zawodowcy:\n\ngłówna: DJ Maro\nexclu
 sive: DJ Tricky\n\n\nStart: 21:00\nWstęp: 10 ZŁ\n\nLajkujcie nas i odwie
 dzajcie na:\nwww.facebook.com/bajkadiscoclubrzeszow\nwww.bajkadiscoclub.pl
 \n\nBAJKA DISCO CLUB\nRzeszów\, Ul. Piłsudskiego 34.
ATTACH;FMTTYPE=image/jpeg:https://night4u.pl/wp-content/uploads/2019/02/18
 997_image_50663730_2071286986291812_5733886506729209856_o.jpg
CATEGORIES:podkarpackie
LOCATION:BAJKA DISCO CLUB Rzeszów\, Ul. Piłsudskiego 34\, Rzeszów\, 35-0
 01\, Poland
GEO:50.041268;22.003453
X-APPLE-STRUCTURED-LOCATION;VALUE=URI;X-ADDRESS=Ul. Piłsudskiego 34\, Rzes
 zów\, 35-001\, Poland;X-APPLE-RADIUS=100;X-TITLE=BAJKA DISCO CLUB Rzeszó
 w:geo:50.041268,22.003453
END:VEVENT
BEGIN:VTIMEZONE
TZID:Europe/Warsaw
X-LIC-LOCATION:Europe/Warsaw
BEGIN:STANDARD
DTSTART:20181028T020000
TZOFFSETFROM:+0200
TZOFFSETTO:+0100
TZNAME:CET
END:STANDARD
END:VTIMEZONE
END:VCALENDAR