BEGIN:VCALENDAR
VERSION:2.0
PRODID:-//wp-events-plugin.com//7.2.3.1//EN
TZID:Europe/Warsaw
X-WR-TIMEZONE:Europe/Warsaw
BEGIN:VEVENT
UID:18193@night4u.pl
DTSTART;TZID=Europe/Warsaw:20190615T210000
DTEND;TZID=Europe/Warsaw:20190616T040000
DTSTAMP:20190603T203747Z
URL:https://night4u.pl/wydarzenia/15-06-%e2%98%85-tymek-live-%e2%98%85-gen
 esis-club-zlotow/
SUMMARY:15.06 ★ TYMEK LIVE ★ Genesis Club Złotów
DESCRIPTION:Nadciąga mega wydarzenie tego miesiąca! \nW sobotę \, 15 cze
 rwca po raz pierwszy w naszym klubie\, po raz pierwszy w regionie wystąpi
  ⭐TYMEK⭐ – autor wielu topowych numerów\, które rozbrzmiewają w n
 ajpopularniejszych radiach i klubach całej Polski! Jego „JĘZYK CIAŁA
 ” to bezapelacyjny numer jeden\, który na platformie YouTube osiągną
 ł oszałamiającą\, 62-milionową ilość odsłon w niespełna 7 miesię
 cy!\nPo prostu nie możesz tego przegapić!!\n▁▁▁▁▁▁▁▁▁
 ▁▁▁▁▁▁▁▁▁▁▁▁▁▁▁\n⭐ SOBOTA - 15.06.2019 ⭐
 \n⭐ Tymek⭐\n⭐ Rezerwacje loży - 725 743 566⭐\n⭐Imprezę nakręc
 a DJ SOLIC⭐
ATTACH;FMTTYPE=image/jpeg:https://night4u.pl/wp-content/uploads/2019/06/44
 001_image_61977219_2300095823379955_5310314491240513536_n.jpg
CATEGORIES:wielkopolskie
END:VEVENT
BEGIN:VTIMEZONE
TZID:Europe/Warsaw
X-LIC-LOCATION:Europe/Warsaw
BEGIN:DAYLIGHT
DTSTART:20190331T030000
TZOFFSETFROM:+0100
TZOFFSETTO:+0200
TZNAME:CEST
END:DAYLIGHT
END:VTIMEZONE
END:VCALENDAR