BEGIN:VCALENDAR
VERSION:2.0
PRODID:-//wp-events-plugin.com//7.2.3.1//EN
TZID:Europe/Warsaw
X-WR-TIMEZONE:Europe/Warsaw
BEGIN:VEVENT
UID:16137@night4u.pl
DTSTART;TZID=Europe/Warsaw:20190516T200000
DTEND;TZID=Europe/Warsaw:20190517T030000
DTSTAMP:20190514T213728Z
URL:https://night4u.pl/wydarzenia/16-05-%e2%98%85-czw-%e2%98%85-ladies-nig
 ht-x-dj-mateoo/
SUMMARY:16.05 ★ czw ★ Ladies Night x DJ Mateoo
DESCRIPTION:16.05 ❌ czw ❌ Ladies Night @ DJ Mateoo\nWyjątkowa noc dla 
 każdej Pani ❤\nNajbardziej kobieca impreza na mapie Zamościa ?\nWszyst
 kie Panie wchodzą bezpłatnie i czeka na nich wyśmienity drink!\n\nLadie
 s Night - najbardziej kobieca impreza na mapie Zamościa ?\n\nZa sterami k
 onsoli DJ Mateoo\n__________________________________________________\n\nSt
 art: 20:00 \n★ DRESS CODE ★\nSMART CASUAL!\n\nBilety: 0-10 PLN \nPANIE
  wstęp Free \nWstęp / +18 SELEKCJA \nVIP CARD - wstęp Free\n___________
 _______________________________________\n★ RESERVATIONS & SOCIAL MEDIA 
 ★\n84 639 26 26 - info i rezerwacje\nInstagram\, Facebook: @BroadwayZamo
 sc\n__________________________________________________\n★ CONTACT ★\nB
 roadway Club Zamość | Peowiaków 94
ATTACH;FMTTYPE=image/jpeg:https://night4u.pl/wp-content/uploads/2019/05/39
 552_image_60568545_3166138430078456_907882406210437120_o.jpg
CATEGORIES:lubelskie
LOCATION:Broadway Club & Restaurant\, ul. Peowiaków 94\, Zamosc\, 22-400\,
  Poland
GEO:50.715726;23.261037
X-APPLE-STRUCTURED-LOCATION;VALUE=URI;X-ADDRESS=ul. Peowiaków 94\, Zamosc\
 , 22-400\, Poland;X-APPLE-RADIUS=100;X-TITLE=Broadway Club & Restaurant:ge
 o:50.715726,23.261037
END:VEVENT
BEGIN:VTIMEZONE
TZID:Europe/Warsaw
X-LIC-LOCATION:Europe/Warsaw
BEGIN:DAYLIGHT
DTSTART:20190331T030000
TZOFFSETFROM:+0100
TZOFFSETTO:+0200
TZNAME:CEST
END:DAYLIGHT
END:VTIMEZONE
END:VCALENDAR