BEGIN:VCALENDAR
VERSION:2.0
PRODID:-//wp-events-plugin.com//7.2.3.1//EN
TZID:Europe/Warsaw
X-WR-TIMEZONE:Europe/Warsaw
BEGIN:VEVENT
UID:24404@night4u.pl
DTSTART;TZID=Europe/Warsaw:20190816T213000
DTEND;TZID=Europe/Warsaw:20190817T050000
DTSTAMP:20190809T215031Z
URL:https://night4u.pl/wydarzenia/16-08-tkacka-music-club-drey-chill-dj-tw
 ister/
SUMMARY:16/08 / Tkacka Music Club / DREY CHILL & DJ Twister
DESCRIPTION:******* ENGLISH DESCRIPTION BELOW *******\n\nPołowa sierpnia j
 uż za nami! Spędzacie wakacje imprezując i bawiąc się do samego rana?
 \n\nDrey Chill DJ rezydent wraz z gościem prosto ze Szczecina Dj Twister 
 starannie wyselekcjonują muzykę lecącą dziś z głośników.\nNa barze
  tylko pyszne koktajle i drinki w wykonaniu naszych barmanów.\nRozpoczyna
 my punkt 21:30!\n\n\n\n\nRezerwacje:\n +48 726 888 333 / kontakt@tkackaclu
 b.pl / fb msg / whatsup\n\nObowiązuje selekcja.\nLista FB - Free do 23 (z
  wejściem na resztę nocy)\nWstęp do klubu - 10 / 20 / 30 PLN\nRezerwacj
 e bezpłatnie do godziny 24:00\n\n________________________\nTKACKA MUSIC C
 LUB\nul. Tkacka 9\, 80-836\, Gdańsk\nwww.tkackaclub.pl #tkackaclub #tkack
 amusicclub #tkacka\n\n\nWe play your favorite songs\, which you do not kno
 w yet from URBAN music - house\, hip-hop\, remixes of the best songs playe
 d in clubs all around the world.\n\nThe Tkacka Music Club is the highest c
 lubbing quality in the Gdańsk Old Town.\n\n\nReservations:\n  +48 726 888
  333 / kontakt@tkackaclub.pl / fb msg / whatsup\n\n\n\n\n\n\nSelection\nFB
  LIST - Free do 23 (z wejściem na resztę nocy)\nFee - 10 / 20 / 30 PLN\n
 Reservation free till 24:00\n\n________________________\nTKACKA MUSIC CLUB
 \nul. Tkacka 9\, 80-836\, Gdańsk\nwww.tkackaclub.pl #tkackaclub #tkackamu
 sicclub #tkacka
ATTACH;FMTTYPE=image/jpeg:https://night4u.pl/wp-content/uploads/2019/08/57
 444_image_67571477_437279816891629_8732815256151130112_o.jpg
CATEGORIES:pomorskie
LOCATION:Tkacka Music Club Gdańsk\, ul. Tkacka 9\, Gdansk\, 80-836\, Polan
 d
GEO:54.350041;18.64889
X-APPLE-STRUCTURED-LOCATION;VALUE=URI;X-ADDRESS=ul. Tkacka 9\, Gdansk\, 80-
 836\, Poland;X-APPLE-RADIUS=100;X-TITLE=Tkacka Music Club Gdańsk:geo:54.3
 50041,18.64889
END:VEVENT
BEGIN:VTIMEZONE
TZID:Europe/Warsaw
X-LIC-LOCATION:Europe/Warsaw
BEGIN:DAYLIGHT
DTSTART:20190331T030000
TZOFFSETFROM:+0100
TZOFFSETTO:+0200
TZNAME:CEST
END:DAYLIGHT
END:VTIMEZONE
END:VCALENDAR