BEGIN:VCALENDAR
VERSION:2.0
PRODID:-//wp-events-plugin.com//7.2.3.1//EN
TZID:Europe/Warsaw
X-WR-TIMEZONE:Europe/Warsaw
BEGIN:VEVENT
UID:36023@night4u.pl
DTSTART;TZID=Europe/Warsaw:20191116T220000
DTEND;TZID=Europe/Warsaw:20191117T050000
DTSTAMP:20191116T090926Z
URL:https://night4u.pl/wydarzenia/16-11-shut-up-and-dance-haade-saw-c-tite
 /
SUMMARY:16.11 - Shut Up and Dance: Haade &amp\; Saw &amp\; C-Tite
DESCRIPTION:16.11 - Shut Up and Dance\n\nPoziom 0 | C-TITE / TORUŃ | house
  music\nPoziom -1 |  HAADE / KRAKÓW &amp\; SAW / ŁÓDŹ | party rocking 
 mashup rnb\n\nStart: 22:00\nWejście:  darmowe do godziny 23:00\, późnie
 j 10 PLN\nObowiązuje selekcja gości\n\nRezerwacje stolików:\n✆ 690-43
 3-154/\n695-346-655\nlub wiadomość na FB:\nhttps://www.facebook.com/Klub
 Kokoo
ATTACH;FMTTYPE=image/jpeg:https://night4u.pl/wp-content/uploads/2019/11/97
 037_image_74573697_2587741421261107_3681390252368330752_o.jpg
CATEGORIES:łódzkie
LOCATION:Klub Kokoo | Moniuszki 1 | Łódź\, Stanisława Moniuszki 1\, Ł
 ódź\, 90-101\, Poland
GEO:51.76793;19.45741
X-APPLE-STRUCTURED-LOCATION;VALUE=URI;X-ADDRESS=Stanisława Moniuszki 1\, 
 Łódź\, 90-101\, Poland;X-APPLE-RADIUS=100;X-TITLE=Klub Kokoo | Moniuszk
 i 1 | Łódź:geo:51.76793,19.45741
END:VEVENT
BEGIN:VTIMEZONE
TZID:Europe/Warsaw
X-LIC-LOCATION:Europe/Warsaw
BEGIN:STANDARD
DTSTART:20191027T020000
TZOFFSETFROM:+0200
TZOFFSETTO:+0100
TZNAME:CET
END:STANDARD
END:VTIMEZONE
END:VCALENDAR