BEGIN:VCALENDAR
VERSION:2.0
PRODID:-//wp-events-plugin.com//7.2.3.1//EN
TZID:Europe/Warsaw
X-WR-TIMEZONE:Europe/Warsaw
BEGIN:VEVENT
UID:19664@night4u.pl
DTSTART;TZID=Europe/Warsaw:20190623T160000
DTEND;TZID=Europe/Warsaw:20190623T220000
DTSTAMP:20190619T103630Z
URL:https://night4u.pl/wydarzenia/16-wielokulturowa-sobotka-nad-wislokiem/
SUMMARY:16. Wielokulturowa Sobótka nad Wisłokiem
DESCRIPTION:Regionalne Centrum Kultur Pogranicza oraz Restauracja Wyszynk z
 apraszają w niedzielę\, 23 czerwca do udziału w 16. Wielokulturowej Sob
 ótce nad Wisłokiem. Noc Kupały\, kupalnocka\, palinocka\, a na południ
 u Polski - sobótka lub sobótki - niezależnie od nazwy\, z którą kojar
 zona jest ta najdłuższa noc w roku. Wydarzenie odbywać się będzie od 
 godziny 16:00\, na placu obok Galerii Zawodzie oraz Restauracji Wyszynk (K
 rosno\, Okrzei 1). Oprócz kulturalnych punktów programu\, zapraszamy na 
 smaczne jedzenie oraz wyśmienite grillowanie\, sobótkowy korowód\, konk
 ursy\, zabawy\, warsztaty i sobótkowe ognisko. Po prostu\, zapraszamy do 
 wspólnego świętowania!\n\nW programie:\n- Opowieści z walizki / Polska
 \n- DMZT Kleks / Polska\n- FS TOPL'AN / Słowacja\n- Kapela Spod Rubani / 
 Polska\n\nGwiazdą wieczoru będzie zespół Krzikopa !\n\nDo zobaczenia !
ATTACH;FMTTYPE=image/jpeg:https://night4u.pl/wp-content/uploads/2019/06/47
 372_image_64350978_367036650616410_7983826827208556544_n.jpg
CATEGORIES:podkarpackie
LOCATION:Pub &amp\; Club Wyszynk\, Okrzei 1\, Krosno\, 38-400\, Poland
GEO:49.696929;21.761701
X-APPLE-STRUCTURED-LOCATION;VALUE=URI;X-ADDRESS=Okrzei 1\, Krosno\, 38-400\
 , Poland;X-APPLE-RADIUS=100;X-TITLE=Pub & Club Wyszynk:geo:49.696929,21.76
 1701
END:VEVENT
BEGIN:VTIMEZONE
TZID:Europe/Warsaw
X-LIC-LOCATION:Europe/Warsaw
BEGIN:DAYLIGHT
DTSTART:20190331T030000
TZOFFSETFROM:+0100
TZOFFSETTO:+0200
TZNAME:CEST
END:DAYLIGHT
END:VTIMEZONE
END:VCALENDAR