BEGIN:VCALENDAR
VERSION:2.0
PRODID:-//wp-events-plugin.com//7.2.3.1//EN
TZID:Europe/Warsaw
X-WR-TIMEZONE:Europe/Warsaw
BEGIN:VEVENT
UID:16141@night4u.pl
DTSTART;TZID=Europe/Warsaw:20190517T220000
DTEND;TZID=Europe/Warsaw:20190518T050000
DTSTAMP:20190514T213734Z
URL:https://night4u.pl/wydarzenia/17-05-%e2%98%85-chelm-by-night-%e2%98%85
 -dj-witkowski-%e2%98%85/
SUMMARY:17.05 ★ Chełm By Night ★ dj Witkowski ★
DESCRIPTION:Ground Club to najbardziej imprezowe miejsce na mapie Chełma!\
 njuż w najbliższy piątek o klubowy klimat zadba dj Witkowski!\nSprawdź
 cie co dzieje się nocą w Chełmie!\n★ before party na ogródku letnim 
 od 20:00 #Łuczkowskiego11\n   ( każdy z before party ma wjazd FREE na im
 preze! )\n★ Start 22:00\n★ Dj Dj Paweł Witkowski\n★ wjazd: 10 PLN\n
 ★ wiek 18+\nMusic: club/Commercial / Vocal House / Hip-Hop / R&B / \n\nR
 ezerwacje miejsc:\n☎ 82 542 15 28
ATTACH;FMTTYPE=image/jpeg:https://night4u.pl/wp-content/uploads/2019/05/39
 561_image_60015582_2185747288157646_3913381033961062400_o.jpg
CATEGORIES:lubelskie
LOCATION:Ground Club\, Pl Łuczkowskiego 11\, Chełm\, 22-100\, Poland
GEO:51.13286;23.47388
X-APPLE-STRUCTURED-LOCATION;VALUE=URI;X-ADDRESS=Pl Łuczkowskiego 11\, Che
 łm\, 22-100\, Poland;X-APPLE-RADIUS=100;X-TITLE=Ground Club:geo:51.13286,
 23.47388
END:VEVENT
BEGIN:VTIMEZONE
TZID:Europe/Warsaw
X-LIC-LOCATION:Europe/Warsaw
BEGIN:DAYLIGHT
DTSTART:20190331T030000
TZOFFSETFROM:+0100
TZOFFSETTO:+0200
TZNAME:CEST
END:DAYLIGHT
END:VTIMEZONE
END:VCALENDAR