BEGIN:VCALENDAR
VERSION:2.0
PRODID:-//wp-events-plugin.com//7.2.3.1//EN
TZID:Europe/Warsaw
X-WR-TIMEZONE:Europe/Warsaw
BEGIN:VEVENT
UID:16138@night4u.pl
DTSTART;TZID=Europe/Warsaw:20190517T200000
DTEND;TZID=Europe/Warsaw:20190518T030000
DTSTAMP:20190514T213728Z
URL:https://night4u.pl/wydarzenia/17-05-%e2%98%85-pt-%e2%98%85-lets-dance-
 night-x-ex-azja/
SUMMARY:17.05 ★ pt ★ Let's Dance Night x Ex-Azja
DESCRIPTION:17.05 ❌ pt ❌ Let's Dance Night x Ex-Azja\nUdowodnimy\, że 
 najlepsza taneczna zabawa jest w piątek!\nI na pewno pokochacie taneczne 
 doświadczenia na parkiecie.\n\n➡️ znane covery\n➡️ polskie przytu
 lanki\n➡️ 100% Gold Hits\n➡️ letnie wspomnienia\n➡️ super topo
 we nowości\n\nPiątkowa noc w muzycznym wykonaniu Ex-Azji\n______________
 ____________________________________\n\nStart: 20:00 \n★ DRESS CODE ★\
 nSMART CASUAL!\n\nBilety: 10 PLN \nWstęp / +18 SELEKCJA \nVIP CARD - wst
 ęp Free\n__________________________________________________\n★ RESERVAT
 IONS & SOCIAL MEDIA ★\n84 639 26 26 - info i rezerwacje\nInstagram\, Fac
 ebook: @BroadwayZamosc\n__________________________________________________
 \n★ CONTACT ★\nBroadway Club Zamość | Peowiaków 94
ATTACH;FMTTYPE=image/jpeg:https://night4u.pl/wp-content/uploads/2019/05/39
 554_image_60211999_3166216006737365_1994713039965782016_o.jpg
CATEGORIES:lubelskie
LOCATION:Broadway Club & Restaurant\, ul. Peowiaków 94\, Zamosc\, 22-400\,
  Poland
GEO:50.715726;23.261037
X-APPLE-STRUCTURED-LOCATION;VALUE=URI;X-ADDRESS=ul. Peowiaków 94\, Zamosc\
 , 22-400\, Poland;X-APPLE-RADIUS=100;X-TITLE=Broadway Club & Restaurant:ge
 o:50.715726,23.261037
END:VEVENT
BEGIN:VTIMEZONE
TZID:Europe/Warsaw
X-LIC-LOCATION:Europe/Warsaw
BEGIN:DAYLIGHT
DTSTART:20190331T030000
TZOFFSETFROM:+0100
TZOFFSETTO:+0200
TZNAME:CEST
END:DAYLIGHT
END:VTIMEZONE
END:VCALENDAR