BEGIN:VCALENDAR
VERSION:2.0
PRODID:-//wp-events-plugin.com//7.2.3.1//EN
TZID:Europe/Warsaw
X-WR-TIMEZONE:Europe/Warsaw
BEGIN:VEVENT
UID:14384@night4u.pl
DTSTART;TZID=Europe/Warsaw:20190517T210000
DTEND;TZID=Europe/Warsaw:20190518T040000
DTSTAMP:20190430T142612Z
URL:https://night4u.pl/wydarzenia/17-05-sensualny-piatek-pod-golym-niebem-
 latin-dance-academy/
SUMMARY:17.05 - Sensualny piątek pod gołym niebem. Latin Dance Academy
DESCRIPTION:17.05 - SENSUALNY PIĄTEK POD GOŁYM NIEBEM. LATIN DANCE ACADEM
 Y.\n\nZapraszamy na wielkie otwarcie piątkowych nocy w Bajkowym ogródku.
  Cała roztańczona Łódź integruje się w w samym centrum miasta przy P
 iotrkowskiej 90. Zapraszamy na serie sensualnych imprez pod gołym niebem 
 :) Animacje taneczne zapewnią Wam właściciele oraz instruktorzy Latin D
 ance Academy - Szkoła Tańca - Łódź. Wytańczymy razem te wspaniałe w
 akacje 2019! Do zobaczenia w Bajkowym ogródku :)\n\nZagra: DJ LIZARD\n\nS
 tart 21:00\, selekcja +18 lat\nWstęp 10 PLN (kursanci LDA wstęp darmowy)
 \n\nLajkujcie nas i odwiedzajcie na:\nwww.bajkadiscoclub.pl\nwww.facebook.
 com/bajkadiscoclublodz\n\nBAJKA DISCO CLUB\nŁódź\, Piotrkowska 90.
ATTACH;FMTTYPE=image/jpeg:https://night4u.pl/wp-content/uploads/2019/04/35
 844_image_58766138_1167414603436458_3173231836692217856_o.jpg
CATEGORIES:łódzkie
LOCATION:BAJKA DISCO CLUB Łódź\, Piotrkowska 90\, Łódź\, 90-103\, Pol
 and
GEO:51.76649;19.45728
X-APPLE-STRUCTURED-LOCATION;VALUE=URI;X-ADDRESS=Piotrkowska 90\, Łódź\, 
 90-103\, Poland;X-APPLE-RADIUS=100;X-TITLE=BAJKA DISCO CLUB Łódź:geo:51
 .76649,19.45728
END:VEVENT
BEGIN:VTIMEZONE
TZID:Europe/Warsaw
X-LIC-LOCATION:Europe/Warsaw
BEGIN:DAYLIGHT
DTSTART:20190331T030000
TZOFFSETFROM:+0100
TZOFFSETTO:+0200
TZNAME:CEST
END:DAYLIGHT
END:VTIMEZONE
END:VCALENDAR