BEGIN:VCALENDAR
VERSION:2.0
PRODID:-//wp-events-plugin.com//7.2.3.1//EN
TZID:Europe/Warsaw
X-WR-TIMEZONE:Europe/Warsaw
BEGIN:VEVENT
UID:31123@night4u.pl
DTSTART;TZID=Europe/Warsaw:20191017T220000
DTEND;TZID=Europe/Warsaw:20191018T040000
DTSTAMP:20191018T004307Z
URL:https://night4u.pl/wydarzenia/17-10-%e2%99%9bstudencki-czwartek-z-wac-
 toja%e2%99%9b-live-on-stage/
SUMMARY:17/10 ♛Studencki Czwartek z WAC TOJA♛ Live on Stage
DESCRIPTION:🔔Studencki Czwartek🔔\n❌ KONCERT LIVE - WAC TOJA ❌\n\n
 Jego nowy album "Turboboost" to prawdziwa perełka wśród rap płyt. Mocn
 e bangery\, wrażliwy przekaz\, to właśnie nowy Wac Toja!\n\nBędzie o t
 ym głośno !\nGruby studencki czwartek!\n____________________\n▪️ Wac
  Toja - Trill Pem feat. Wac Toja - NICKI prod. Samiryi\nhttps://www.youtub
 e.com/watch?v=RwY-sKsuCpY\n▪️ Wac Toja n Matheo feat. Kizo - Chili Hot
 \nhttps://www.youtube.com/watch?v=u11_BRrf4p8\n▪️ Wac Toja - Ciepło c
 iała (prod. Oil Beatz)\nhttps://www.youtube.com/watch?v=fkYEdiN96mQ\n▪
 ️ Wac Toja - Flamenco (prod. Jacon)\nhttps://www.youtube.com/watch?v=fFH
 Z0gireJo\n\n⛔-20% RABAT NA BAR - WSZYSTKIM STUDENTOM!⛔\n\n❌ WSTĘP 
 ❌\nStudent 15 PLN / Reszta 20PLN\n\nBilety do kupienia w kasie klubowej 
 w dniu koncertu.\n\n★★★★★★★★★★★★★★★★★★
 ★★★★★★★★★★★★\n\n► Miejsce: Elixir Club ul. Lipow
 a 30 🎉\n\n► Data: 17.10.2019 🔜 CZWARTEK\n\n► Start: 22:00 🔥\n
 \n► Dresscode: elegant/no-sport. 💃\n\nRezerwacja loży: 570-590-120\n
 ————————————————————————-\
 nKlub zastrzega prawo do selekcji gości. Wchodząc\, akceptujesz regulami
 n klubu (m.in publikowanie zdjęć i filmów).
ATTACH;FMTTYPE=image/jpeg:https://night4u.pl/wp-content/uploads/2019/10/72
 363_image_71584593_2575840022480506_4550873099741954048_o.jpg
CATEGORIES:podlaskie
LOCATION:Elixir Club\, ul. Lipowa 30\, Białystok\, 15-427\, Poland
GEO:53.13423;23.1484
X-APPLE-STRUCTURED-LOCATION;VALUE=URI;X-ADDRESS=ul. Lipowa 30\, Białystok\
 , 15-427\, Poland;X-APPLE-RADIUS=100;X-TITLE=Elixir Club:geo:53.13423,23.1
 484
END:VEVENT
BEGIN:VTIMEZONE
TZID:Europe/Warsaw
X-LIC-LOCATION:Europe/Warsaw
BEGIN:DAYLIGHT
DTSTART:20190331T030000
TZOFFSETFROM:+0100
TZOFFSETTO:+0200
TZNAME:CEST
END:DAYLIGHT
END:VTIMEZONE
END:VCALENDAR