BEGIN:VCALENDAR
VERSION:2.0
PRODID:-//wp-events-plugin.com//7.2.3.1//EN
TZID:Europe/Warsaw
X-WR-TIMEZONE:Europe/Warsaw
BEGIN:VEVENT
UID:31151@night4u.pl
DTSTART;TZID=Europe/Warsaw:20191018T150000
DTEND;TZID=Europe/Warsaw:20191019T030000
DTSTAMP:20191009T195910Z
URL:https://night4u.pl/wydarzenia/17-urodziny-czecha/
SUMMARY:17 Urodziny Czecha!
DESCRIPTION:Pamiętasz swoje 17 urodziny?\nA chciałbyś je powtórzyć?\n1
 8 października Czech będzie miał 17 lat!\nMamy dla Ciebie propozycję.\
 nPrzypomnij sobie\, jak to było: \ntłum znajomych\, muzyka\, którą na 
 pewno znasz\, i dużo fajnych promocji!\nChcemy cały czas rozwijać nasz 
 pub\, nie zapominając o tradycji i historii\, dlatego wysyłaj nam swoje 
 zdjęcia (zrobione w Czeskim Filmie) na messengerze albo instagramie\, a m
 y ozdobimy nimi ściany naszego baru. \nNie masz zdjęć? Nie ma problemu!
 \nPrzyjdź 18 października i zrobimy je razem! Nie przegap tego wydarzeni
 a.\nPS. O tym jak świętowałeś te urodziny nie powiemy Twojej mamusi! 
 😀
ATTACH;FMTTYPE=image/jpeg:https://night4u.pl/wp-content/uploads/2019/10/72
 442_image_72140983_2598410086847321_5069132556943753216_o.jpg
CATEGORIES:dolnośląskie
LOCATION:Czeski film.\, Kiełbaśnicza 2\, Wroclaw\, 50-108\, Poland
GEO:51.11023;17.02941
X-APPLE-STRUCTURED-LOCATION;VALUE=URI;X-ADDRESS=Kiełbaśnicza 2\, Wroclaw\
 , 50-108\, Poland;X-APPLE-RADIUS=100;X-TITLE=Czeski film.:geo:51.11023,17.
 02941
END:VEVENT
BEGIN:VTIMEZONE
TZID:Europe/Warsaw
X-LIC-LOCATION:Europe/Warsaw
BEGIN:DAYLIGHT
DTSTART:20190331T030000
TZOFFSETFROM:+0100
TZOFFSETTO:+0200
TZNAME:CEST
END:DAYLIGHT
END:VTIMEZONE
END:VCALENDAR