BEGIN:VCALENDAR
VERSION:2.0
PRODID:-//wp-events-plugin.com//7.2.3.1//EN
TZID:Europe/Warsaw
X-WR-TIMEZONE:Europe/Warsaw
BEGIN:VEVENT
UID:3041@night4u.pl
DTSTART;TZID=Europe/Warsaw:20190118T210000
DTEND;TZID=Europe/Warsaw:20190119T040000
DTSTAMP:20190108T171337Z
URL:https://night4u.pl/wydarzenia/18-01-a-wszystko-to-bo-ciebie-kocham-tyl
 ko-polskamuzyka-listafb/
SUMMARY:18.01/ A Wszystko To Bo Ciebie Kocham/Tylko PolskaMuzyka/ListaFB
DESCRIPTION:18 Styczeń (Piątek) \n#Rzeszów Klub Pod Palmą \nul. Cicha 4
 a\n\n✰Start 21:00\n✔Bilety:\n➡ 21:00-22:00 Lista FB Wstęp #FREE (Za
  Okazaniem Dokumentu Tożsamości). Więc dołącz do #wydarzenia i wejdź
  za darmo❗\nhttps://www.facebook.com/events/213967026090407/\n➡ Po 22:
 00 & Pozostali Wstęp 10 PLN\n\n⚡ ⚡ Listę z Facebooka zamykamy 18.01.
 2019 punktualnie o godzinie 19:00. Osoby które dodadzą się do wydarzeni
 a po tej godzinie nie zostaną wpisane już na listę❗ ⚡ ⚡\n❏ ❐ 
 ❑ ❒ ❏ ❐ ❑ ❒ ❏ ❐ ❑ ❒ ❏ ❐ ❑ ❒ ❏ ❐ ❑ ❐ 
 ❑ ❒ ❏ ❐ ❑ ❏ ❐ ❑\n\nI nie wiem jak bez Ciebie mógłbym ży
 ć!\nChodź\, pokażę ci\, czym moja miłość jest...\n\nWszyscy kochamy
  POLSKIE PRZEBOJE! ♥\nZapraszamy więc na #piątkowy przegląd nieśmier
 telnych klasyków i największych Polskich hitów♥ Imprezę rozkręca Dj
  #Tommi który wprowadzi Was w taneczne rytmy z najwyższej półki!:D \nC
 zas mija nieubłaganie\, ale świetna muzyka pozostaje wiecznie młoda :)\
 n\nJedno jest pewne - nie spędzaj piątku w domu!\n▬▬▬▬▬▬▬
 ▬▬▬▬▬▬▬▬▬▬▬▬▬▬▬▬▬▬▬▬▬▬▬▬
 ▬▬\n\n✔ Koło godziny 1:00 chusteczka haftowana\nhttp://www.youtube.
 com/watch?v=BvUiNRKcmBQ\n❏ ❐ ❑ ❒ ❏ ❐ ❑ ❒ ❏ ❐ ❑ ❒ 
 ❏ ❐ ❑ ❒ ❏ ❐ ❑ ❐ ❑ ❒ ❏ ❐ ❑ ❏ ❐ ❑\n\n>>>>W c
 zasie imprezy: \n✘PIWO BUTELKA: 7 PLN\n✘PIWO LANE: 6 PLN\n✘BANIA 25M
 L: 3 PLN\n✘WÓDKA 0.5L: 60 PLN\n✘NAPOJE/SOKI 0.2L: 5 PLN\n✘ENERGETYK
 : 7 PLN\n❏ ❐ ❑ ❒ ❏ ❐ ❑ ❒ ❏ ❐ ❑ ❒ ❏ ❐ ❑ ❒ 
 ❏ ❐ ❑ ❐ ❑ ❒ ❏ ❐ ❑ ❏ ❐ ❑\n\n☝Tak imprezowaliśmy 
 na ostatniej Tematycznej Dyskotece:\nhttp://www.facebook.com/podpalma/phot
 os_stream?tab=photos_albums\n\n❊Loża 20 PLN\n☎Rezerwacja lóż pod nu
 merem (17) 872 39 52\, od poniedziałku do piątku między 9.00 a 17.00. R
 ezerwacja loży ważna jest przez 1 h od momentu rozpoczęcia się danej i
 mprezy!
ATTACH;FMTTYPE=image/jpeg:https://night4u.pl/wp-content/uploads/2019/01/10
 203_image_49525845_2110748452304734_6756664935989641216_o.jpg
CATEGORIES:podkarpackie
LOCATION:Pod Palmą\, Cicha4a\, Rzeszów\, 35-326\, Poland
GEO:50.01652;22.00478
X-APPLE-STRUCTURED-LOCATION;VALUE=URI;X-ADDRESS=Cicha4a\, Rzeszów\, 35-326
 \, Poland;X-APPLE-RADIUS=100;X-TITLE=Pod Palmą:geo:50.01652,22.00478
END:VEVENT
BEGIN:VTIMEZONE
TZID:Europe/Warsaw
X-LIC-LOCATION:Europe/Warsaw
BEGIN:STANDARD
DTSTART:20181028T020000
TZOFFSETFROM:+0200
TZOFFSETTO:+0100
TZNAME:CET
END:STANDARD
END:VTIMEZONE
END:VCALENDAR