BEGIN:VCALENDAR
VERSION:2.0
PRODID:-//wp-events-plugin.com//7.2.3.1//EN
TZID:Europe/Warsaw
X-WR-TIMEZONE:Europe/Warsaw
BEGIN:VEVENT
UID:3046@night4u.pl
DTSTART;TZID=Europe/Warsaw:20190118T210000
DTEND;TZID=Europe/Warsaw:20190119T040000
DTSTAMP:20190108T171342Z
URL:https://night4u.pl/wydarzenia/18-01-big-city-life/
SUMMARY:18.01 / Big City Life
DESCRIPTION:Big City Life to nic innego jak wielkomiejskie życie!\nCelebra
 cja rozpoczynającego się weekendu ?\nMuzycznie spodziewajcie się najwi
 ększych hitów czarnej muzyki - r'n'b i komercyjnego rapu. Nie zabraknie 
 historycznych produkcji i najświeższych bitów!\n\nMusic by:\nDJ RAMZES 
 - club\n_____________________\nPIĄTEK 18.01.2019\nStart 21:00 / obowiązu
 je selekcja / wstęp od 21 lat\nRezerwacje: +48 533 760 769\nWstęp - 15 p
 ln\n\n*Do 22:00 - Lista FB (kliknij "wezmę udział")\nListę zamykamy o g
 odzinie 20:00
ATTACH;FMTTYPE=image/jpeg:https://night4u.pl/wp-content/uploads/2019/01/10
 214_image_49051918_2061483920601248_7431863507504594944_o.jpg
CATEGORIES:podkarpackie
LOCATION:\, \, 
X-APPLE-STRUCTURED-LOCATION;VALUE=URI;X-ADDRESS=\, ;X-APPLE-RADIUS=100;X-TI
 TLE=:geo:0,0
END:VEVENT
BEGIN:VTIMEZONE
TZID:Europe/Warsaw
X-LIC-LOCATION:Europe/Warsaw
BEGIN:STANDARD
DTSTART:20181028T020000
TZOFFSETFROM:+0200
TZOFFSETTO:+0100
TZNAME:CET
END:STANDARD
END:VTIMEZONE
END:VCALENDAR