BEGIN:VCALENDAR
VERSION:2.0
PRODID:-//wp-events-plugin.com//7.2.3.1//EN
TZID:Europe/Warsaw
X-WR-TIMEZONE:Europe/Warsaw
BEGIN:VEVENT
UID:16139@night4u.pl
DTSTART;TZID=Europe/Warsaw:20190518T200000
DTEND;TZID=Europe/Warsaw:20190519T030000
DTSTAMP:20190514T213729Z
URL:https://night4u.pl/wydarzenia/18-05-%e2%98%85-sb-%e2%98%85-we-love-sat
 urday-x-dj-paulo/
SUMMARY:18.05 ★ sb ★ We Love Saturday x DJ Paulo
DESCRIPTION:18.05 ❌ sb ❌ We Love Saturday x DJ Paulo\nBędzie głośno\
 , mocno i energicznie!\nSobota to zestaw energetycznej mieszanki wielu sty
 lów muzycznych\nPrzygotujcie się na dużo gorących nowości i nieznanyc
 h do tej pory brzmień w nowych obliczach! ❤\n\nPrzypominamy\, że wszys
 tkimi równo potrząśnie tym razem DJ Paulo\n____________________________
 ______________________\n\nStart: 20:00 \n★ DRESS CODE ★\nSMART CASUAL!
 \n\nWstęp / +18 SELEKCJA \n______________________________________________
 ____\n★ RESERVATIONS & SOCIAL MEDIA ★\n84 639 26 26 - info i rezerwacj
 e\nInstagram\, Facebook: @BroadwayZamosc\n________________________________
 __________________\n★ CONTACT ★\nBroadway Club Zamość | Peowiaków 9
 4
ATTACH;FMTTYPE=image/jpeg:https://night4u.pl/wp-content/uploads/2019/05/39
 556_image_60192926_3166346320057667_9096287862986375168_o.jpg
CATEGORIES:lubelskie
LOCATION:Broadway Club & Restaurant\, ul. Peowiaków 94\, Zamosc\, 22-400\,
  Poland
GEO:50.715726;23.261037
X-APPLE-STRUCTURED-LOCATION;VALUE=URI;X-ADDRESS=ul. Peowiaków 94\, Zamosc\
 , 22-400\, Poland;X-APPLE-RADIUS=100;X-TITLE=Broadway Club & Restaurant:ge
 o:50.715726,23.261037
END:VEVENT
BEGIN:VTIMEZONE
TZID:Europe/Warsaw
X-LIC-LOCATION:Europe/Warsaw
BEGIN:DAYLIGHT
DTSTART:20190331T030000
TZOFFSETFROM:+0100
TZOFFSETTO:+0200
TZNAME:CEST
END:DAYLIGHT
END:VTIMEZONE
END:VCALENDAR