BEGIN:VCALENDAR
VERSION:2.0
PRODID:-//wp-events-plugin.com//7.2.3.1//EN
TZID:Europe/Warsaw
X-WR-TIMEZONE:Europe/Warsaw
BEGIN:VEVENT
UID:43309@night4u.pl
DTSTART;TZID=Europe/Warsaw:20200118T213000
DTEND;TZID=Europe/Warsaw:20200119T040000
DTSTAMP:20200331T192044Z
URL:https://night4u.pl/wydarzenia/18-1-2020-%e2%80%a2-forum-x-project-klub
 owa-domowka/
SUMMARY:18.1.2020 • Forum-X Project - Klubowa domówka !
DESCRIPTION:18.1.2020 • Forum-X Project - Klubowa domówka !\nForum-X Pro
 ject czyli - klubowa amerykańska domówka w Forum !\n• SPECJALNY WYSTR
 ÓJ KLUBU !\nDarmowy amerykański poncz\, popcorn\,czerwone kubeczki\, pa
 łeczki LED !\n_______________\nForum - Music Club\, ul. Żwirki 40\, Wło
 szczowa\n• DJ: MaxOne\, Crissfeit\n• Start: 21:30\n• REZERWACJA: FAC
 EBOOK
ATTACH;FMTTYPE=image/jpeg:https://night4u.pl/wp-content/uploads/2020/01/13
 8398_image_82877904_3966522423373913_7341568335571582976_o.jpg
CATEGORIES:świętokrzyskie
LOCATION:FORUM - Music Club\, ul. Żwirki 40\, Włoszczowa\, 29-100\, Polan
 d
GEO:50.85124;19.97031
X-APPLE-STRUCTURED-LOCATION;VALUE=URI;X-ADDRESS=ul. Żwirki 40\, Włoszczow
 a\, 29-100\, Poland;X-APPLE-RADIUS=100;X-TITLE=FORUM - Music Club:geo:50.8
 5124,19.97031
END:VEVENT
BEGIN:VTIMEZONE
TZID:Europe/Warsaw
X-LIC-LOCATION:Europe/Warsaw
BEGIN:STANDARD
DTSTART:20191027T020000
TZOFFSETFROM:+0200
TZOFFSETTO:+0100
TZNAME:CET
END:STANDARD
END:VTIMEZONE
END:VCALENDAR