BEGIN:VCALENDAR
VERSION:2.0
PRODID:-//wp-events-plugin.com//7.2.3.1//EN
TZID:Europe/Warsaw
X-WR-TIMEZONE:Europe/Warsaw
BEGIN:VEVENT
UID:30259@night4u.pl
DTSTART;TZID=Europe/Warsaw:20191018T210000
DTEND;TZID=Europe/Warsaw:20191020T050000
DTSTAMP:20191019T215425Z
URL:https://night4u.pl/wydarzenia/18-19-10-kochamy-wysokie-szpilki/
SUMMARY:18-19.10 - Kochamy Wysokie Szpilki
DESCRIPTION:18-19.10 - KOCHAMY WYSOKIE SZPILKI\n\nPowracamy z ulubionym kob
 iecym cyklem imprezowym: kochamy wysokie szpilki. Wszystkie Panie na wysok
 im obcasie otrzymują od nas w ten weekend welcome drink na wstępie do kl
 ubu.\n\nKLUB: DJ LIZARD &amp\; DJ ROKETS\n\nStart 21:00\, selekcja +18 lat
 \nWstęp 10 PLN\n\nLajkujcie nas i odwiedzajcie na:\nwww.bajkadiscoclub.pl
 \nwww.facebook.com/bajkadiscoclublodz\n\nBAJKA DISCO CLUB\nŁódź\, Piotr
 kowska 90.
ATTACH;FMTTYPE=image/jpeg:https://night4u.pl/wp-content/uploads/2019/10/69
 778_image_69709364_1282801821897735_9004013067612192768_o.jpg
CATEGORIES:łódzkie
LOCATION:BAJKA DISCO CLUB Łódź\, Piotrkowska 90\, Łódź\, 90-103\, Pol
 and
GEO:51.76649;19.45728
X-APPLE-STRUCTURED-LOCATION;VALUE=URI;X-ADDRESS=Piotrkowska 90\, Łódź\, 
 90-103\, Poland;X-APPLE-RADIUS=100;X-TITLE=BAJKA DISCO CLUB Łódź:geo:51
 .76649,19.45728
END:VEVENT
BEGIN:VTIMEZONE
TZID:Europe/Warsaw
X-LIC-LOCATION:Europe/Warsaw
BEGIN:DAYLIGHT
DTSTART:20190331T030000
TZOFFSETFROM:+0100
TZOFFSETTO:+0200
TZNAME:CEST
END:DAYLIGHT
END:VTIMEZONE
END:VCALENDAR