BEGIN:VCALENDAR
VERSION:2.0
PRODID:-//wp-events-plugin.com//7.2.3.1//EN
TZID:Europe/Warsaw
X-WR-TIMEZONE:Europe/Warsaw
BEGIN:VEVENT
UID:3048@night4u.pl
DTSTART;TZID=Europe/Warsaw:20190119T210000
DTEND;TZID=Europe/Warsaw:20190120T040000
DTSTAMP:20190108T171343Z
URL:https://night4u.pl/wydarzenia/19-01-residents-night/
SUMMARY:19.01 / Residents Night
DESCRIPTION:Residents Night to noc\, podczas której będziecie mieli okazj
 ę wsłuchać się w dźwięki naszych rezydentów ?\nWidzimy się!\n\nMus
 ic by:\nDJ BLEQ - club\nDJ RAMZES - club\nDJ STORM - rooftop\n____________
 _________\nSOBOTA 19.01.2019\nStart 21:00 / obowiązuje selekcja / wstęp 
 od 21 lat\nRezerwacje: +48 533 760 769\nWstęp - 20 pln\n\n*Do 22:00 - Lis
 ta FB (kliknij "wezmę udział")\nListę zamykamy o godzinie 20:00
ATTACH;FMTTYPE=image/jpeg:https://night4u.pl/wp-content/uploads/2019/01/10
 218_image_49454913_2062321800517460_6613779693403373568_o.jpg
CATEGORIES:podkarpackie
LOCATION:\, \, 
X-APPLE-STRUCTURED-LOCATION;VALUE=URI;X-ADDRESS=\, ;X-APPLE-RADIUS=100;X-TI
 TLE=:geo:0,0
END:VEVENT
BEGIN:VTIMEZONE
TZID:Europe/Warsaw
X-LIC-LOCATION:Europe/Warsaw
BEGIN:STANDARD
DTSTART:20181028T020000
TZOFFSETFROM:+0200
TZOFFSETTO:+0100
TZNAME:CET
END:STANDARD
END:VTIMEZONE
END:VCALENDAR