BEGIN:VCALENDAR
VERSION:2.0
PRODID:-//wp-events-plugin.com//7.2.3.1//EN
TZID:Europe/Warsaw
X-WR-TIMEZONE:Europe/Warsaw
BEGIN:VEVENT
UID:19437@night4u.pl
DTSTART;TZID=Europe/Warsaw:20190619T210000
DTEND;TZID=Europe/Warsaw:20190620T050000
DTSTAMP:20190615T024630Z
URL:https://night4u.pl/wydarzenia/19-06-%e2%97%8e-nowe-twarze-%e2%97%8e-pa
 rt1/
SUMMARY:19/06 ◎ Nowe Twarze ◎ /part1
DESCRIPTION:W środę 19.06 (przed Bożym Ciałem) Nowe Twarze na obiektowy
 m podwórku\, czyli absolwenci warsztatów didżejskich przejmują stery ?
 \nLine up okazał się tak długi (20 DJ's!)\, że musieliśmy rozłożyć
  event na 2 wieczory\, także druga część odbędzie się 21.06 w piąte
 k:\nhttps://www.facebook.com/events/1075917179272834/\n\nlista fb FREE do 
 23:00 | pozostali 10zł\n\n◎ Alex Fish\n◎ Chinese Cookies\n◎ Kuszqu\
 n◎ Megi\n◎ MYAH\n◎ Necromance\n◎ o'teez\n◎ PCO\n◎ PUSSYKATANA\
 n◎ Robert
ATTACH;FMTTYPE=image/jpeg:https://night4u.pl/wp-content/uploads/2019/06/46
 853_image_64223952_1163622737156415_542713480566800384_o.jpg
CATEGORIES:lubuskie
LOCATION:O B I E K T\, Kazimierza Wielkiego 21\, Zielona Góra\, 65-001\, P
 oland
GEO:51.944503;15.513146
X-APPLE-STRUCTURED-LOCATION;VALUE=URI;X-ADDRESS=Kazimierza Wielkiego 21\, Z
 ielona Góra\, 65-001\, Poland;X-APPLE-RADIUS=100;X-TITLE=O B I E K T:geo:
 51.944503,15.513146
END:VEVENT
BEGIN:VTIMEZONE
TZID:Europe/Warsaw
X-LIC-LOCATION:Europe/Warsaw
BEGIN:DAYLIGHT
DTSTART:20190331T030000
TZOFFSETFROM:+0100
TZOFFSETTO:+0200
TZNAME:CEST
END:DAYLIGHT
END:VTIMEZONE
END:VCALENDAR