BEGIN:VCALENDAR
VERSION:2.0
PRODID:-//wp-events-plugin.com//7.2.3.1//EN
TZID:Europe/Warsaw
X-WR-TIMEZONE:Europe/Warsaw
BEGIN:VEVENT
UID:19694@night4u.pl
DTSTART;TZID=Europe/Warsaw:20190619T210000
DTEND;TZID=Europe/Warsaw:20190620T040000
DTSTAMP:20190619T105954Z
URL:https://night4u.pl/wydarzenia/19-06-%e2%97%8f-rozpoczecie-wakacji-2019
 -%e2%97%8f-mercus-%e2%97%8f-maniana-%e2%97%8f-mdj/
SUMMARY:19.06 ● Rozpoczęcie Wakacji 2019 ● Mercus ● Maniana ● MDJ
DESCRIPTION:? 19.06.2019 - ŚRODA - Zilion CLUB - Wrzelowiec ?\n\nDrodzy Kl
 ubowicze! ?‍♂?‍♀\nZ racji wolnego od pracy czwartku (20.06 - Boże
  Ciało)\, zapraszamy Was na imprezę w dniu 19.06 (Środa)! ?\n\n☀? ROZ
 POCZĘCIE WAKACJI 2019 ?☀\n\n➡ Sala Klubowa\n\n? Mercus\n? Dj Mañana\
 n? Mariodeejay pres.MDJ.\n____________________________\n⛔⛔ UWAGA PROMO
 CJA ⛔⛔\n\n? Kontynuując naszą długą tradycję\, uczniowie\, którz
 y otrzymali świadectwa z ⚪? czerwonym paskiem\, wchodzą do klubu za fr
 ee przez całe wakacje!\nWystarczy zabrać ze sobą zdjęcie lub ksero-kop
 ię świadectwa wraz z dowodem osobistym lub innym dokumentem ze zdjęciem
  oraz numerem PESEL! \n\n? Do godz. 22:00 dwie Panie wchodzą w cenie jedn
 ego biletu! \n____________________________\n? REZYDENCI ?\n\n? Sala KLUBOW
 A : ? DJ Lechu ? DJ HUDY\n? Sala DANCE : ? DJ Goryl\n_____________________
 _______\n⏰ START - 21:00\n? FOTORELACJA\n♥ ♥ ♥ ♥ ♥ ♥ ♥ ♥
  ♥
ATTACH;FMTTYPE=image/jpeg:https://night4u.pl/wp-content/uploads/2019/06/47
 440_image_64489238_2540916565921618_5339450260886388736_o.jpg
CATEGORIES:lubelskie
LOCATION:Zilion CLUB - Wrzelowiec\, ul. Opolska 3\, Wrzelowiec\, 24-320\, P
 oland
GEO:51.097745;21.932795
X-APPLE-STRUCTURED-LOCATION;VALUE=URI;X-ADDRESS=ul. Opolska 3\, Wrzelowiec\
 , 24-320\, Poland;X-APPLE-RADIUS=100;X-TITLE=Zilion CLUB - Wrzelowiec:geo:
 51.097745,21.932795
END:VEVENT
BEGIN:VTIMEZONE
TZID:Europe/Warsaw
X-LIC-LOCATION:Europe/Warsaw
BEGIN:DAYLIGHT
DTSTART:20190331T030000
TZOFFSETFROM:+0100
TZOFFSETTO:+0200
TZNAME:CEST
END:DAYLIGHT
END:VTIMEZONE
END:VCALENDAR