BEGIN:VCALENDAR
VERSION:2.0
PRODID:-//wp-events-plugin.com//7.2.3.1//EN
TZID:Europe/Warsaw
X-WR-TIMEZONE:Europe/Warsaw
BEGIN:VEVENT
UID:19693@night4u.pl
DTSTART;TZID=Europe/Warsaw:20190619T210000
DTEND;TZID=Europe/Warsaw:20190620T040000
DTSTAMP:20190619T105952Z
URL:https://night4u.pl/wydarzenia/19-06-%e2%98%86-noc-swirow-urodziny-cc-a
 rmii-%e2%98%86-corrado-przesmyki/
SUMMARY:19.06 ☆ Noc Świrów & Urodziny CC Armii ☆ Corrado Przesmyki
DESCRIPTION:? 19.06.2019 - ŚRODA - Club Corrado - Przesmyki ?\n\nNadeszła
  pora na pierwszą edycję naszej flagowej imprezy w drugim lokalu pod szy
 ldem CORRADO! ??\nDodatkowo tej nocy będziemy obchodzić urodziny grupy n
 ajwierniejszych klubowiczów i sympatyków klubów Corrado\, czyli CC ARMI
 A ??\nZapraszamy gorąco vixiarzy z całej Polski! ?☢?\n\nℹ Przypomina
 my\, iż czwartek (20.06 - Boże Ciało) jest dniem wolnym od pracy!\n\n
 ⛔ NOC ŚWIRÓW ⛔\n? Urodziny CC ARMIA ?\n\n➡ Sala Klubowa\n\n✅ MAT
 SON\n✅ Gashmaker\n✅ Prisoners Show\n✅ DJ Endriu\n✅ DJ Lacros\n____
 __________________________\n⚠ WIĘCEJ INFO JUŻ NIEBAWEM ⚠\n__________
 __________________________________\n⏰ Start - 21:00\n♥ ♥ ♥ ♥ ♥
  ♥ ♥ ♥ ♥ ♥ ♥ ♥ ♥ ♥ ♥ \nPAMIĘTAJCIE❗ WSZYSCY NA CC
 ❗
ATTACH;FMTTYPE=image/jpeg:https://night4u.pl/wp-content/uploads/2019/06/47
 438_image_61819164_2155856531157670_4570671808054820864_o.jpg
CATEGORIES:lubelskie
LOCATION:Club Corrado - Przesmyki\, Kościuszki 34\, Przesmyki\, 08-109\, P
 oland
GEO:52.273961;22.574201
X-APPLE-STRUCTURED-LOCATION;VALUE=URI;X-ADDRESS=Kościuszki 34\, Przesmyki\
 , 08-109\, Poland;X-APPLE-RADIUS=100;X-TITLE=Club Corrado - Przesmyki:geo:
 52.273961,22.574201
END:VEVENT
BEGIN:VTIMEZONE
TZID:Europe/Warsaw
X-LIC-LOCATION:Europe/Warsaw
BEGIN:DAYLIGHT
DTSTART:20190331T030000
TZOFFSETFROM:+0100
TZOFFSETTO:+0200
TZNAME:CEST
END:DAYLIGHT
END:VTIMEZONE
END:VCALENDAR