BEGIN:VCALENDAR
VERSION:2.0
PRODID:-//wp-events-plugin.com//7.2.3.1//EN
TZID:Europe/Warsaw
X-WR-TIMEZONE:Europe/Warsaw
BEGIN:VEVENT
UID:19419@night4u.pl
DTSTART;TZID=Europe/Warsaw:20190619T200000
DTEND;TZID=Europe/Warsaw:20190620T040000
DTSTAMP:20190615T024535Z
URL:https://night4u.pl/wydarzenia/19-06-sroda-tede-w-mega-music-wilga-marc
 us-sala-klubowa/
SUMMARY:19.06 ( Środa ) ! TEDE w Mega Music Wilga ! Marcus sala klubowa
DESCRIPTION:Już 19 .06 (ŚRODA) Legenda Sceny Rapowej w Mega Music❗️\n
 ⭐️ TEDE ⭐️\nZnany z takich Hitów\n➡️TEDE- WYJE WYJE BANE\nhtt
 ps://youtu.be/XL8xaUYqhNA\n➡️TEDE- OSTATNIA NOC\nhttps://youtu.be/h566
 t6wwsCc\n➡️TEDE- PAŻAŁSTA\nhttps://youtu.be/q76EfgGXvIY\n➡️TEDE-
  T-KILLA\nhttps://youtu.be/aJBu5tc_HcA\n➡️TEDE- #HOT16CHALLENGE\nhttps
 ://youtu.be/fqlEjgD6wmg\n➡️TEDE- MICHAEL KORS\nhttps://youtu.be/6nXjJf
 OGEEQ\n➡️TEDE- BEZELE KOCHANA\nhttps://youtu.be/-_Fuw3QVBKM\n➡️TED
 E- DRIN ZA DRINEM\nhttps://youtu.be/0C-UhjVQBS4\n➡️TEDE- CTZK\nhttps:/
 /youtu.be/ZAufONAig6w\n➡️TEDE- MELO INFERNO\nhttps://youtu.be/VF01jddY
 uyo\n\n?SALA LETNIA NA POWIETRZU?\nSALA KLUBOWA - MARCUS \nLETNI KOMPLEKS 
 OGRÓDKÓW Z BAREM? I GRILLEM?
ATTACH;FMTTYPE=image/jpeg:https://night4u.pl/wp-content/uploads/2019/06/46
 803_image_62517300_2863745457028953_6184359513005490176_o.jpg
CATEGORIES:mazowieckie
LOCATION:Mega Music Wilga (Oficjalne konto klubu)\, Stawowa 9\, Wilga\, 08-
 470\, Poland
GEO:51.84353;21.386362
X-APPLE-STRUCTURED-LOCATION;VALUE=URI;X-ADDRESS=Stawowa 9\, Wilga\, 08-470\
 , Poland;X-APPLE-RADIUS=100;X-TITLE=Mega Music Wilga (Oficjalne konto klub
 u):geo:51.84353,21.386362
END:VEVENT
BEGIN:VTIMEZONE
TZID:Europe/Warsaw
X-LIC-LOCATION:Europe/Warsaw
BEGIN:DAYLIGHT
DTSTART:20190331T030000
TZOFFSETFROM:+0100
TZOFFSETTO:+0200
TZNAME:CEST
END:DAYLIGHT
END:VTIMEZONE
END:VCALENDAR