BEGIN:VCALENDAR
VERSION:2.0
PRODID:-//wp-events-plugin.com//7.2.3.1//EN
TZID:Europe/Warsaw
X-WR-TIMEZONE:Europe/Warsaw
BEGIN:VEVENT
UID:22184@night4u.pl
DTSTART;TZID=Europe/Warsaw:20190719T210000
DTEND;TZID=Europe/Warsaw:20190720T050000
DTSTAMP:20190713T142533Z
URL:https://night4u.pl/wydarzenia/19-07-%e2%97%8e-czarny-wosk-%e2%97%8e-ve
 nzio-sourge-robert-blaszczyk-lista/
SUMMARY:19/07 ◎ Czarny WOSK ◎ Venzio / Sourge / Robert Błaszczyk [list
 a]
DESCRIPTION:Czarny Wosk nadciąga po raz kolejny do Obiektu. Standardowo za
 bierzcie ze sobą pozytywne nastawienie\, szeroki uśmiech oraz wygodne bu
 ty bo tańce oraz piosenki będą srogie - jak zwykle\, nie inaczej! ?\n\n
 zasady wstępu: lista do 22:00 FREE / pozostali 10 zł\n\n◎ LINE UP ◎\
 nVenzio (Czarny Wosk / Poznań)\nhttps://soundcloud.com/djvenzio\n\nSourge
  (Czarny Wosk / Poznań)\nhttps://soundcloud.com/sourge\n\nRobert Błaszcz
 yk (Krobman/ Czarny Wosk / Na co czekasz ?\nwww.soundcloud.com/robertblasz
 czyk\n\n◎ MUSIC ◎\nDEEP / HOUSE / ACID / MINIMAL
ATTACH;FMTTYPE=image/jpeg:https://night4u.pl/wp-content/uploads/2019/07/52
 457_image_66306444_1187476324771056_7693537576879128576_o.jpg
CATEGORIES:lubuskie
LOCATION:O B I E K T\, Kazimierza Wielkiego 21\, Zielona Góra\, 65-001\, P
 oland
GEO:51.944503;15.513146
X-APPLE-STRUCTURED-LOCATION;VALUE=URI;X-ADDRESS=Kazimierza Wielkiego 21\, Z
 ielona Góra\, 65-001\, Poland;X-APPLE-RADIUS=100;X-TITLE=O B I E K T:geo:
 51.944503,15.513146
END:VEVENT
BEGIN:VTIMEZONE
TZID:Europe/Warsaw
X-LIC-LOCATION:Europe/Warsaw
BEGIN:DAYLIGHT
DTSTART:20190331T030000
TZOFFSETFROM:+0100
TZOFFSETTO:+0200
TZNAME:CEST
END:DAYLIGHT
END:VTIMEZONE
END:VCALENDAR