BEGIN:VCALENDAR
VERSION:2.0
PRODID:-//wp-events-plugin.com//7.2.3.1//EN
TZID:Europe/Warsaw
X-WR-TIMEZONE:Europe/Warsaw
BEGIN:VEVENT
UID:21572@night4u.pl
DTSTART;TZID=Europe/Warsaw:20190719T210000
DTEND;TZID=Europe/Warsaw:20190720T050000
DTSTAMP:20190705T152006Z
URL:https://night4u.pl/wydarzenia/19-07-epicki-piatek-baccaratclub-dj-uche
 /
SUMMARY:19.07 Epicki Piątek @BaccaratCLUB DJ UCHE
DESCRIPTION:19.07 Epicki Piątek @BaccaratCLUB DJ UCHE\n\nPiątek\, godzina
  18:00\, koniec pracy i myśli\, co teraz?\nNadchodzi upragniony weekend\,
  ale co z tym zrobić?\nPodpowiemy Wam\, w jaki sposób można spędzić p
 iątkowy wieczór.\n\nZBIERZ EPICKĄ EKIPĘ \nOTWÓRZ RACHUNEK NA DOWOLNĄ
  KWOTĘ \nMY PODWOIMY TWÓJ BUDGET!\n \nNie pracuj w piątkowy wieczór\, 
 baw się z nami!!!\n\nZmobilizuj znajomych\, zadzwoń do nas i dokonaj\n r
 ezerwacji stolika.\nZdecyduj jaką kwotę masz na zabawę.\nMy podwoimy tw
 ój budget.\n\nGorąca Impreza Dla Gorących Ludzi. \nNo bo nie sama prac
 ą i obowiązkami żyje człowiek!\n\nRelaks i miła atmosfera to podstawa
  każdego weekendu. \nChcemy zapomnieć o stresach minionego tygodnia i da
 ć się porwać przyjemnym doznaniom. Wszystkich\, pełnych energii do spo
 żytkowania\, spragnionych gorącej klubowej atmosfery zapraszamy do BCC.\
 n\nCzekają na was   najlepsze\, kuszące drinki tego lata\, w mega promoc
 yjnych\, gorących cenach\, przygotowane przez profesjonalną\, zawsze czu
 jącą imprezę- Ekipę BACCA.\nPrzestrzeń wypełnią gorące dźwięki o
 raz znane i lubiane przez wszystkich muzyczne hity\, prezentowane przez na
 szych rezydentów.\n\nPrzyjazny wystrój i profesjonalna obsługa\, stworz
 ą niepowtarzalną atmosferę.\n\nNie może Was zabraknąć\, już zarezer
 wowaliśmy dla was stolik…!!!\n\n \n\nDress code / ..sexy with a good st
 yle…/\n\n\n\nhttps://baccaratclub.pl/epicki-piatek/\n\n\n\n\nBądźcie z
  nami !!!!!\n*\n\nBACCARAT TO MIEJSCE DLA LUDZI Z CHARAKTEREM\n\nLET THE S
 HOW BEGIN!!!!!\n\nINFO I REZERWACJA\nINFO @BACCARATCLUB.PL\nTEL :695 116 7
 60\nWWW.BACCARATCLUB.PL\n\nMuzyka POP R’N’B DISCO
ATTACH;FMTTYPE=image/jpeg:https://night4u.pl/wp-content/uploads/2019/07/51
 323_image_65943693_3047184661988271_3821597600025411584_o.jpg
CATEGORIES:małopolskie
LOCATION:Baccarat Club\, ul. Stolarska 13\, Kraków\, 31-043\, Poland
GEO:50.05978;19.93865
X-APPLE-STRUCTURED-LOCATION;VALUE=URI;X-ADDRESS=ul. Stolarska 13\, Kraków\
 , 31-043\, Poland;X-APPLE-RADIUS=100;X-TITLE=Baccarat Club:geo:50.05978,19
 .93865
END:VEVENT
BEGIN:VTIMEZONE
TZID:Europe/Warsaw
X-LIC-LOCATION:Europe/Warsaw
BEGIN:DAYLIGHT
DTSTART:20190331T030000
TZOFFSETFROM:+0100
TZOFFSETTO:+0200
TZNAME:CEST
END:DAYLIGHT
END:VTIMEZONE
END:VCALENDAR