BEGIN:VCALENDAR
VERSION:2.0
PRODID:-//wp-events-plugin.com//7.2.3.1//EN
TZID:Europe/Warsaw
X-WR-TIMEZONE:Europe/Warsaw
BEGIN:VEVENT
UID:32306@night4u.pl
DTSTART;TZID=Europe/Warsaw:20191019T210000
DTEND;TZID=Europe/Warsaw:20191020T040000
DTSTAMP:20191019T224823Z
URL:https://night4u.pl/wydarzenia/19-10-%e2%98%86-urodzinowy-after-%e2%98%
 86-mr-whooo-yourant-mercus-%e2%98%86-zilion-club/
SUMMARY:19.10 ☆ Urodzinowy After ☆ Mr.Whooo Yourant Mercus ☆ Zilion C
 LUB
DESCRIPTION:🍹 19.10.2019 - Zilion CLUB - Wrzelowiec 🍹\n\nPo hucznych 
 25'tych urodzinach nadeszła pora na wielkie poprawiny! :)\nJuż w najbli
 ższą sobotę zapraszamy na URODZINOWY AFTER!\n\n🆕 Nowość\n\nNa ten 
 wieczór specjalnie dla Was przygotowaliśmy limitowaną edycję opasek si
 likonowych "25 LAT ZILION CLUB"!\n\nOpaskę otrzymacie do zakupionego bile
 tu wstęp w kasie klubu!\n\n⚠ Uwaga! \nPula opasek jest duża\, ale nie 
 nieskończona.\nStandardowo stosujemy zasadę kto pierwszy\, ten lepszy\, 
 więc warto być razem z nami od samego początku! :)\n\n➡ Sala Klubowa\
 n\nTego wieczoru naszymi gośćmi na sali klubowej będą :\n\n🔥 DJ You
 rant\n🔥 Mr.Whooo\n🔥 Mercus\n____________________________\n🚧 REZYD
 ENCI 🚧\n\n🔊 Sala KLUBOWA : 🔴 DJ Lechu\n🔊 Sala DANCE : 🔴 DJ 
 Goryl\n____________________________\n⏰ START - 21:00\n📸 FOTORELACJA\n
 ♥ ♥ ♥ ♥ ♥ ♥ ♥ ♥ ♥ \nDO ZOBACZENIA W ZILIONIE❗😍😍
ATTACH;FMTTYPE=image/jpeg:https://night4u.pl/wp-content/uploads/2019/10/77
 407_image_72337967_2775627395783866_4357665172752433152_o.jpg
CATEGORIES:lubelskie
LOCATION:Zilion CLUB - Wrzelowiec\, ul. Opolska 3\, Wrzelowiec\, 24-320\, P
 oland
GEO:51.097745;21.932795
X-APPLE-STRUCTURED-LOCATION;VALUE=URI;X-ADDRESS=ul. Opolska 3\, Wrzelowiec\
 , 24-320\, Poland;X-APPLE-RADIUS=100;X-TITLE=Zilion CLUB - Wrzelowiec:geo:
 51.097745,21.932795
END:VEVENT
BEGIN:VTIMEZONE
TZID:Europe/Warsaw
X-LIC-LOCATION:Europe/Warsaw
BEGIN:DAYLIGHT
DTSTART:20190331T030000
TZOFFSETFROM:+0100
TZOFFSETTO:+0200
TZNAME:CEST
END:DAYLIGHT
END:VTIMEZONE
END:VCALENDAR