BEGIN:VCALENDAR
VERSION:2.0
PRODID:-//wp-events-plugin.com//7.2.3.1//EN
TZID:Europe/Warsaw
X-WR-TIMEZONE:Europe/Warsaw
BEGIN:VEVENT
UID:32609@night4u.pl
DTSTART;TZID=Europe/Warsaw:20191019T210000
DTEND;TZID=Europe/Warsaw:20191020T040000
DTSTAMP:20191019T224313Z
URL:https://night4u.pl/wydarzenia/19-10-groundland-ft-logan/
SUMMARY:19.10 - GroundLand ft. LOGAN
DESCRIPTION:👌🏼Czołem !\nBrak planów na weekend ? U nas nigdy nie ma
  nudy !!!\nMuzycznie imprezę rozkręci Dj Logan który zmiksuje coś spec
 jalnie dla Was 🎶\nRnb? Rap? Coś na pewno przypadnie Wam do gustu .\nwe
 ekend nie trwa cały tydzień... dlatego zbieraj ekipę \,przyjdź do Grou
 nd Club !\n➡️Start: 21:00\n➡️wjazd : 10 PLN\n➡️ Door selection
 \n➡️ Rezerwacje 825421528
ATTACH;FMTTYPE=image/jpeg:https://night4u.pl/wp-content/uploads/2019/10/78
 780_image_72476151_2470726782993027_6817559875665526784_o.jpg
CATEGORIES:lubelskie
LOCATION:Ground Club\, Pl Łuczkowskiego 11\, Chełm\, 22-100\, Poland
GEO:51.13286;23.47388
X-APPLE-STRUCTURED-LOCATION;VALUE=URI;X-ADDRESS=Pl Łuczkowskiego 11\, Che
 łm\, 22-100\, Poland;X-APPLE-RADIUS=100;X-TITLE=Ground Club:geo:51.13286,
 23.47388
END:VEVENT
BEGIN:VTIMEZONE
TZID:Europe/Warsaw
X-LIC-LOCATION:Europe/Warsaw
BEGIN:DAYLIGHT
DTSTART:20190331T030000
TZOFFSETFROM:+0100
TZOFFSETTO:+0200
TZNAME:CEST
END:DAYLIGHT
END:VTIMEZONE
END:VCALENDAR