BEGIN:VCALENDAR
VERSION:2.0
PRODID:-//wp-events-plugin.com//7.2.3.1//EN
TZID:Europe/Warsaw
X-WR-TIMEZONE:Europe/Warsaw
BEGIN:VEVENT
UID:31168@night4u.pl
DTSTART;TZID=Europe/Warsaw:20191019T210000
DTEND;TZID=Europe/Warsaw:20191020T050000
DTSTAMP:20191019T161057Z
URL:https://night4u.pl/wydarzenia/19-10-sobota-%e2%98%85-live-mix-gazell-%
 e2%98%85-wstep-1-pln-do-22-00/
SUMMARY:19/10 Sobota ★ Live Mix: Gazell ★ Wstęp 1 PLN do 22-00.
DESCRIPTION:19/10 Sobota ★ Live Mix: GAZELL ★ IMPERIUM Bolesławiec\nTo
  już pewne\, że w najbliższą sobotę 19/10 ponownie zawita\, jeden z w
 iększych polskich producentów muzyki klubowej GAZELL. Nie możecie takie
 j imprezy przegapić. Zapraszamy na TURBO MELANŻ z Gazell!!!\nGazell - Dj
 \, zaawansowany producent\, miłośnik pompujących brzmień. To co charak
 teryzuje jego sety to muzyczny przekaz miłości do muzyki . \nSwoją przy
 godę z muzyką rozpoczął w 2008 roku. Pierwsze rezydentury w klubach w 
 Poznaniu stały się bazą dla szybkiego rozwoju kariery tego młodego Dj`
 a\, a stało się to w roku 2011. \nGrywał w wielu klubach na terenie Pol
 ski.\nPosłuchajcie produkcji Gazell`a: https://soundcloud.com/gazelloffic
 ial\n★ Do godz.22 wstęp 1 PLN!!!\n★ Efekty zmrożonego Co2\n★ Rezer
 wacja loży tel. 605436373.\nChcesz otrzymać wstęp dla 6 osób\, lożę 
 i pakiet startowy (%) oraz nową klubową koszulkę dla organizatora na me
 ga imprezę: sobota 19/10 - Gazell .\nWystarczy napisać w komentarzu z ki
 m będziecie imprezować i opublikować na swoim FB.\nBądźcie czujni - w
 yniki w sobotę 19 października godz.19.
ATTACH;FMTTYPE=image/jpeg:https://night4u.pl/wp-content/uploads/2019/10/72
 462_image_71669263_2709383479071983_8098859022196670464_o.jpg
CATEGORIES:dolnośląskie
LOCATION:Klub Imperium\, ul. Gdańska 29\, Bolesławiec\, 59-700\, Poland
GEO:51.260342;15.55112
X-APPLE-STRUCTURED-LOCATION;VALUE=URI;X-ADDRESS=ul. Gdańska 29\, Bolesław
 iec\, 59-700\, Poland;X-APPLE-RADIUS=100;X-TITLE=Klub Imperium:geo:51.2603
 42,15.55112
END:VEVENT
BEGIN:VTIMEZONE
TZID:Europe/Warsaw
X-LIC-LOCATION:Europe/Warsaw
BEGIN:DAYLIGHT
DTSTART:20190331T030000
TZOFFSETFROM:+0100
TZOFFSETTO:+0200
TZNAME:CEST
END:DAYLIGHT
END:VTIMEZONE
END:VCALENDAR