BEGIN:VCALENDAR
VERSION:2.0
PRODID:-//wp-events-plugin.com//7.2.3.1//EN
TZID:Europe/Warsaw
X-WR-TIMEZONE:Europe/Warsaw
BEGIN:VEVENT
UID:32598@night4u.pl
DTSTART;TZID=Europe/Warsaw:20191019T200000
DTEND;TZID=Europe/Warsaw:20191020T020000
DTSTAMP:20191019T190335Z
URL:https://night4u.pl/wydarzenia/19-10-sobota-koncert-rompey/
SUMMARY:19.10 (sobota) - Koncert: Rompey
DESCRIPTION:19.10.2019 (sobota) - 😍Koncert zespołu: ROMPEY😍\nhttps:/
 /www.facebook.com/zespolrompey\nhttps://www.youtube.com/channel/UCs1O_QLd5
 bqSLmrzUChoHzg\n\nZapraszamy w najbliższą sobotę 😜19.10 na imprezę 
 w miejscowości STUDZIANKI podczas której odbędzie się zabawa taneczna 
 i koncert zespołu ROMPEY.\n\nProwadzenie: K-TRONIC👍
ATTACH;FMTTYPE=image/jpeg:https://night4u.pl/wp-content/uploads/2019/10/78
 703_image_72458447_2756749027705217_8852967773710581760_o.jpg
CATEGORIES:lubelskie
END:VEVENT
BEGIN:VTIMEZONE
TZID:Europe/Warsaw
X-LIC-LOCATION:Europe/Warsaw
BEGIN:DAYLIGHT
DTSTART:20190331T030000
TZOFFSETFROM:+0100
TZOFFSETTO:+0200
TZNAME:CEST
END:DAYLIGHT
END:VTIMEZONE
END:VCALENDAR