BEGIN:VCALENDAR
VERSION:2.0
PRODID:-//wp-events-plugin.com//7.2.3.1//EN
TZID:Europe/Warsaw
X-WR-TIMEZONE:Europe/Warsaw
BEGIN:VEVENT
UID:19429@night4u.pl
DTSTART;TZID=Europe/Warsaw:20190619T220000
DTEND;TZID=Europe/Warsaw:20190620T030000
DTSTAMP:20190615T024602Z
URL:https://night4u.pl/wydarzenia/19-czerwca-sroda-bye-bye-szkolo/
SUMMARY:19 czerwca Środa- BYE BYE Szkoło :)
DESCRIPTION:Bye Bye Szkoło :) 19 czerwca Środa\nSala Disco koncert MASTER
 S\nSala Klubowa- DJ RE CUE\nStart: 22:00 ZAPRASZAMY !!!
ATTACH;FMTTYPE=image/jpeg:https://night4u.pl/wp-content/uploads/2019/06/46
 836_image_62442352_3301736219843899_4813417342375559168_o.jpg
CATEGORIES:mazowieckie
LOCATION:Klub Bohema\, Kolejowa 3\, Siedlce\, 08-110\, Poland
GEO:52.15774;22.28255
X-APPLE-STRUCTURED-LOCATION;VALUE=URI;X-ADDRESS=Kolejowa 3\, Siedlce\, 08-1
 10\, Poland;X-APPLE-RADIUS=100;X-TITLE=Klub Bohema:geo:52.15774,22.28255
END:VEVENT
BEGIN:VTIMEZONE
TZID:Europe/Warsaw
X-LIC-LOCATION:Europe/Warsaw
BEGIN:DAYLIGHT
DTSTART:20190331T030000
TZOFFSETFROM:+0100
TZOFFSETTO:+0200
TZNAME:CEST
END:DAYLIGHT
END:VTIMEZONE
END:VCALENDAR