BEGIN:VCALENDAR
VERSION:2.0
PRODID:-//wp-events-plugin.com//7.2.3.1//EN
TZID:Europe/Warsaw
X-WR-TIMEZONE:Europe/Warsaw
BEGIN:VEVENT
UID:30887@night4u.pl
DTSTART;TZID=Europe/Warsaw:20191102T210000
DTEND;TZID=Europe/Warsaw:20191103T040000
DTSTAMP:20191102T224308Z
URL:https://night4u.pl/wydarzenia/2-11%e2%98%bb%e2%98%bb%e2%98%bb-m-r-o-c-
 z-n-y-m-e-l-a-n-z-%e2%98%bb%e2%98%bb%e2%98%bb/
SUMMARY:2.11☻☻☻ M r o c z n y M e l a n ż ☻☻☻
DESCRIPTION:☻☻☻ M R O C Z N Y    M E L A N Ż☻☻☻\nJuż 2-ego li
 stopada impreza w totalnie halloweenowym stylu.\nPrzez całą imprezę bę
 dzie towarzyszył nam ciężki dym na podłodze\,mroczny klimat oraz wiele
  dodatków specjalnie przygotowanych na tę okazję\, ale to pozostanie ju
 ż tajemnicą do samej imprezy.\nDla wszystkich gości będą darmowe "KRW
 AWE SHOTY" serwowana przez nasze piękne Hostessy!!!\nNoc w różnych klim
 atach muzycznych\, tak aby każdy znalazł coś dla siebie. Na parkiecie k
 rólować będzie  house\, dance\,  rap  oraz hip hop\, wszystko zmiksowan
 e i podane w sposób pobudzający każdego do szaleństwa na parkiecie - D
 J WHITE !\n\n☻ Start 21:00\n☻ lista FB wejście FREE do 21:30 \n     (
 wystarczy kliknąć "wezmę udział" )\n☻ osoby w przebraniach wejście 
 free ALL night!\n☻ dla osób w przebraniach PREZENTY na barze!\n☻ Czer
 wone shoty - FREE \n☻ bilety : 10 PLN\n☻ wiek: 18+\n☻ Fotorelacja - 
 Dawid Mazurek Photography\n☻ DJ Michał White\n\nRezerwacja: 📞 ‭668
  15 22 08
ATTACH;FMTTYPE=image/jpeg:https://night4u.pl/wp-content/uploads/2019/10/71
 336_image_71299575_2448344288564610_6060926589619666944_o.jpg
CATEGORIES:lubelskie
LOCATION:Ground Club\, Pl Łuczkowskiego 11\, Chełm\, 22-100\, Poland
GEO:51.13286;23.47388
X-APPLE-STRUCTURED-LOCATION;VALUE=URI;X-ADDRESS=Pl Łuczkowskiego 11\, Che
 łm\, 22-100\, Poland;X-APPLE-RADIUS=100;X-TITLE=Ground Club:geo:51.13286,
 23.47388
END:VEVENT
BEGIN:VTIMEZONE
TZID:Europe/Warsaw
X-LIC-LOCATION:Europe/Warsaw
BEGIN:STANDARD
DTSTART:20191027T020000
TZOFFSETFROM:+0200
TZOFFSETTO:+0100
TZNAME:CET
END:STANDARD
END:VTIMEZONE
END:VCALENDAR