BEGIN:VCALENDAR
VERSION:2.0
PRODID:-//wp-events-plugin.com//7.2.3.1//EN
TZID:Europe/Warsaw
X-WR-TIMEZONE:Europe/Warsaw
BEGIN:VEVENT
UID:34133@night4u.pl
DTSTART;TZID=Europe/Warsaw:20191102T210000
DTEND;TZID=Europe/Warsaw:20191103T040000
DTSTAMP:20191102T083938Z
URL:https://night4u.pl/wydarzenia/2-11-lobuzy-i-dj-hubertuse/
SUMMARY:2.11- Łobuzy i Dj Hubertuse
DESCRIPTION:W sobotę 2.11 wystąpi zespół ŁOBUZY !\nUsłyszycie takie k
 awałki jak:\nZBUNTOWANY ANIOŁ\nhttps://www.youtube.com/watch?v=S7lJsZE2o
 bY\n\nDLA CIEBIE KUPIE SE SPODNIE\nhttps://www.youtube.com/watch?v=Y2i5k8r
 9jbw\n\nONA CZUJE WE MNIE PINIĄDZ\nhttps://www.youtube.com/watch?v=_YHa20
 8H-Gc\n\nUROK\nhttps://www.youtube.com/watch?v=F3zrOjxruc0\n\nImprezę roz
 kręci DJ FRAGLES !\n\nNa sali klubowej wystąpi DJ HUBERTUSE !\nSupport: 
 DJ YOUNG'D\n\nWstęp 20 zł\nStart 21\n\nW dniu imprezy wylosujemy trzy os
 oby które wygrają lożę na sali klubowej\, but. wódki\, napój i wejś
 cie dla 6 osób.\nWystarczy\, wykonać 3 proste kroki:\n- wziąć udział 
 w wydarzeniu\n- zaprosić na nie min. 100 osób\n- napisać w komentarzu i
 le osób zaprosiliście\n\nPowodzenia
ATTACH;FMTTYPE=image/jpeg:https://night4u.pl/wp-content/uploads/2019/10/87
 346_image_72958692_1591824814293813_833657198012792832_o.jpg
CATEGORIES:mazowieckie
LOCATION:Explosion Club Radom\, ul. Wernera 10 ( róg Szarych Szeregów)\, 
 Radom\, 26-610\, Poland
GEO:51.409191;21.144698
X-APPLE-STRUCTURED-LOCATION;VALUE=URI;X-ADDRESS=ul. Wernera 10 ( róg Szary
 ch Szeregów)\, Radom\, 26-610\, Poland;X-APPLE-RADIUS=100;X-TITLE=Explosi
 on Club Radom:geo:51.409191,21.144698
END:VEVENT
BEGIN:VTIMEZONE
TZID:Europe/Warsaw
X-LIC-LOCATION:Europe/Warsaw
BEGIN:STANDARD
DTSTART:20191027T020000
TZOFFSETFROM:+0200
TZOFFSETTO:+0100
TZNAME:CET
END:STANDARD
END:VTIMEZONE
END:VCALENDAR