BEGIN:VCALENDAR
VERSION:2.0
PRODID:-//wp-events-plugin.com//7.2.3.1//EN
TZID:Europe/Warsaw
X-WR-TIMEZONE:Europe/Warsaw
BEGIN:VEVENT
UID:27822@night4u.pl
DTSTART;TZID=Europe/Warsaw:20191012T090000
DTEND;TZID=Europe/Warsaw:20191012T160000
DTSTAMP:20190916T211153Z
URL:https://night4u.pl/wydarzenia/2-bieg-czas-na-wzrok/
SUMMARY:2. Bieg Czas Na Wzrok
DESCRIPTION:Drodzy!\n\nJuż w październiku ponownie pokonamy 5 km w szczyt
 nym celu! W tym roku biegniemy dla poprawy wzroku podopiecznych SOS Wioski
  Dziecięce i dzieci z rodzin zastępczych. \n\n         1 uczestnik = 1 p
 ara okularów korekcyjnych dla dziecka  \n\nBądźcie z nami 12 październ
 ika w okolicy Plaży Wilanów! Powiedzcie o nas swoim Bliskim i Znajomym i
  zarejestrujcie się wspólnie na bieg! Wszystkie niezbędne informacje or
 az formularz rejestracyjny znajdziecie na stronie www.bieg.czasnawzrok.pl.
  \n\nWydarzeniu towarzyszyć będzie szereg atrakcji rodzinnych – zarów
 no dla dzieci\, jak i dorosłych. Każdy będzie mógł poddać się bezp
 łatnemu badaniu przesiewowemu wzroku. Z myślą o rodzinach\, Organizator
 zy zadbają także o przygotowanie strefy rekreacji z animacjami dla najm
 łodszych\, strefy gastro oraz strefy chill out. Dzieci będą mogły rów
 nież wziąć udział w towarzyszącym imprezie Biegu Dla Dzieci w czterec
 h kategoriach wiekowych (5-7 lat\, 7-9 lat\, 9-13 lat oraz 13-15 lat)\, na
  czterech dystansach: 50 m\, 150 m\, 200 m oraz 300 m. \n\nPo wręczeniu n
 agród najlepszym biegaczom odbędzie się również występ Magda Bereda 
 – jednej z najpopularniejszych śpiewających YouTuberek – oraz koncer
 t zespołu Future Folk!!!\n\nTo co\, widzimy się 12 października na lini
 i startu??? Liczymy na Was i będziemy wdzięczni za udostępnianie wydarz
 enia swoim Znajomym-Biegaczom! :)\n\n...\nPomysłodawcą oraz Organizatore
 m 2. Biegu Czas Na Wzrok jest Grupa Essilor Polska – lider w produkcji r
 ozwiązań korygujących wzrok\, reprezentowana przez firmy optyczne: Essi
 lor Polonia\, JZO - Polski Ekspert Optyczny\, JAI KUDO Polska oraz Essilor
  Optical Laboratory Poland. Sponsorem Głównym wydarzenia jest firma Baus
 ch + Lomb Polska. Partnerem Miasteczka Biegowego jest Urząd Dzielnicy Wil
 anów. \n...
ATTACH;FMTTYPE=image/jpeg:https://night4u.pl/wp-content/uploads/2019/09/64
 663_image_70476338_2312838932312559_2474156618560831488_o.jpg
CATEGORIES:mazowieckie
LOCATION:Plaża Wilanów\, Róg Wilanowskiej i Przyczółkowej\, Wilanów\,
  Poland
GEO:52.165525;21.08296
X-APPLE-STRUCTURED-LOCATION;VALUE=URI;X-ADDRESS=Róg Wilanowskiej i Przycz
 ółkowej\, Wilanów\, Poland;X-APPLE-RADIUS=100;X-TITLE=Plaża Wilanów:g
 eo:52.165525,21.08296
END:VEVENT
BEGIN:VTIMEZONE
TZID:Europe/Warsaw
X-LIC-LOCATION:Europe/Warsaw
BEGIN:DAYLIGHT
DTSTART:20190331T030000
TZOFFSETFROM:+0100
TZOFFSETTO:+0200
TZNAME:CEST
END:DAYLIGHT
END:VTIMEZONE
END:VCALENDAR