BEGIN:VCALENDAR
VERSION:2.0
PRODID:-//wp-events-plugin.com//7.2.3.1//EN
TZID:Europe/Warsaw
X-WR-TIMEZONE:Europe/Warsaw
BEGIN:VEVENT
UID:39587@night4u.pl
DTSTART;TZID=Europe/Warsaw:20191226T210000
DTEND;TZID=Europe/Warsaw:20191227T050000
DTSTAMP:20191226T085617Z
URL:https://night4u.pl/wydarzenia/2-dzien-swiat-chwytak-dj-wiktor/
SUMMARY:2 Dzień Świąt // Chwytak &amp\; DJ Wiktor
DESCRIPTION:2 Dnia Świąt Bożego Narodzenia wystąpi duet: Chwytak &amp\;
  DJ Wiktor ❗🔥\nTwórcy takich hitów jak:\nChwytak &amp\; Dj Wiktor -
  "Zayebały żule mi"\nhttps://www.youtube.com/watch?v=esF4aUD0KBs\nChwyta
 k feat. Dj Wiktor - Napijmy się gorzoły\nhttps://www.youtube.com/watch?v
 =6lzkEkeadmk\nChwytak &amp\; Dj Wiktor feat. Letni\, Chamski Podryw - Wind
 a\nhttps://www.youtube.com/watch?v=N3oriDsz_7g\n\nSTART 21:00 // WSTĘP 16
 + // SELEKCJA\n\nImprezę nakręcają również rezydenci:\nDJ X-Meen | LJ
  Kacper | DJ Dream | Dj KeyTech\n\nREZERWACJE: http://bit.ly/2w3r4FG
ATTACH;FMTTYPE=image/jpeg:https://night4u.pl/wp-content/uploads/2019/12/11
 7100_image_79093230_2547819245265721_6210347531184898048_o.jpg
CATEGORIES:lubuskie
LOCATION:Heaven Zielona Góra\, ul. Generała Józefa Sowińskiego 38 C\, Z
 ielona Góra\, 65-067\, Poland
GEO:51.934371;15.509862
X-APPLE-STRUCTURED-LOCATION;VALUE=URI;X-ADDRESS=ul. Generała Józefa Sowi
 ńskiego 38 C\, Zielona Góra\, 65-067\, Poland;X-APPLE-RADIUS=100;X-TITLE
 =Heaven Zielona Góra:geo:51.934371,15.509862
END:VEVENT
BEGIN:VTIMEZONE
TZID:Europe/Warsaw
X-LIC-LOCATION:Europe/Warsaw
BEGIN:STANDARD
DTSTART:20191027T020000
TZOFFSETFROM:+0200
TZOFFSETTO:+0100
TZNAME:CET
END:STANDARD
END:VTIMEZONE
END:VCALENDAR