BEGIN:VCALENDAR
VERSION:2.0
PRODID:-//wp-events-plugin.com//7.2.3.1//EN
TZID:Europe/Warsaw
X-WR-TIMEZONE:Europe/Warsaw
BEGIN:VEVENT
UID:48716@night4u.pl
DTSTART;TZID=Europe/Warsaw:20200430T210000
DTEND;TZID=Europe/Warsaw:20200501T040000
DTSTAMP:20200424T190103Z
URL:https://night4u.pl/wydarzenia/20-03-vixa-party-%e2%98%85-vixiarskie-ro
 zpoczecie-wiosny-%e2%98%85-strefa-g2-3/
SUMMARY:30.04 :: Vixa Party ★ Vixiarskie Rozpoczęcie Majówki ★ Strefa
  G2
DESCRIPTION:⚡️ ZMIANA DATY! IMPREZA PRZEŁOŻONA NA 30.04 ⚡️\n☢
 👽 VIXIARSKIE ROZPOCZĘCIE MAJÓWKI! 👽☢\n\nJuż 30 kwietnia zaprasz
 amy wszystkich na najbardziej energetyczna imprezę 2020 roku! Pierwsza ed
 ycja VIXA PARTY odbędzie się w Klubie STREFA G2! Jesteście gotowi na ca
 łonocne harce ? Jeśli tak\, to klikaj „ Wezmę udział” i czytaj dal
 ej…. \;)\n\n▬▬▬▬▬▬▬▬▬▬▬▬▬▬▬▬▬▬▬▬
 ▬▬▬▬▬▬▬\n\n⭐️NOC ŚWIRÓW⭐️ VIXA PARTY ⭐️\nTego 
 dnia zaserwujemy Wam muzyczny powrót do przeszłości! Podczas tego melan
 żu stworzymy VIXE jakiej Radom jeszcze nie widział… \;) JADA ŚWIRY JA
 DA…\nNa wejściu wyposażymy Was w obowiązkowe akcesoria każdego szanu
 jącego się VIXIARZA :\n⚡️ BIAŁE REKAWICZKI\n⚡️ GWIZDKI\n⚡️ 
 MASKI\n\nVixiarskie wydarzenie roku ! 😈\nZapraszamy gorąco vixiarzy z 
 całego województwa! 👽☢💥\nIMPREZA Z MOCNYM UDERZENIEM!\n\n▬▬
 ▬▬▬▬▬▬▬▬▬▬▬▬▬▬▬▬▬▬▬▬▬▬▬▬
 ▬\nPODSUMOWANIE :\n►Data: 30.04.2020\n►Start: 21:00\n►Klub : Klub 
 Strefa G2\n►Bilety: Przedsprzedaż – 15 PLN | Bramka – 20 PLN\n* Ze 
 względu na zmianę daty\, bilety bilety z 20.03 zachowują swoja ważnoś
 ć :)\n\n▬▬▬▬▬▬▬▬▬▬▬▬▬▬▬▬▬▬▬▬▬
 ▬▬▬▬▬\n\nWejście od rocznika 04'\nPolub nasz Fanpage i bądź n
 a bieżąco - &gt\; Fabryka Melanżu Radom\nDo zobaczenia ♥
ATTACH;FMTTYPE=image/jpeg:https://night4u.pl/wp-content/uploads/2020/02/16
 6531_image_87434351_2559501014268995_8611941897050521600_o.jpg
CATEGORIES:mazowieckie
LOCATION:Sala Koncertowa W Um Radom\, Ul Żeromskiego 53\, Radom\, 26-602\,
  Poland
GEO:51.401524;21.158288
X-APPLE-STRUCTURED-LOCATION;VALUE=URI;X-ADDRESS=Ul Żeromskiego 53\, Radom\
 , 26-602\, Poland;X-APPLE-RADIUS=100;X-TITLE=Sala Koncertowa W Um Radom:ge
 o:51.401524,21.158288
END:VEVENT
BEGIN:VTIMEZONE
TZID:Europe/Warsaw
X-LIC-LOCATION:Europe/Warsaw
BEGIN:DAYLIGHT
DTSTART:20200329T030000
TZOFFSETFROM:+0100
TZOFFSETTO:+0200
TZNAME:CEST
END:DAYLIGHT
END:VTIMEZONE
END:VCALENDAR