BEGIN:VCALENDAR
VERSION:2.0
PRODID:-//wp-events-plugin.com//7.2.3.1//EN
TZID:Europe/Warsaw
X-WR-TIMEZONE:Europe/Warsaw
BEGIN:VEVENT
UID:48714@night4u.pl
DTSTART;TZID=Europe/Warsaw:20200320T210000
DTEND;TZID=Europe/Warsaw:20200321T040000
DTSTAMP:20200226T175314Z
URL:https://night4u.pl/wydarzenia/20-03-vixa-party-%e2%98%85-vixiarskie-ro
 zpoczecie-wiosny-%e2%98%85-strefa-g2/
SUMMARY:20.03 :: Vixa Party ★ Vixiarskie Rozpoczęcie Wiosny ★ Strefa G
 2
DESCRIPTION:☢👽 VIXIARSKIE ROZPOCZĘCIE WIOSNY! 👽☢\nJuż 20 marca 
 zapraszamy wszystkich na najbardziej energetyczna imprezę 2020 roku! Pier
 wsza edycja VIXA PARTY odbędzie się w Klubie STREFA G2! Jesteście gotow
 i na całonocne harce ? Jeśli tak\, to klikaj „ Wezmę udział” i czy
 taj dalej…. \;)\n\n▬▬▬▬▬▬▬▬▬▬▬▬▬▬▬▬▬
 ▬▬▬▬▬▬▬▬▬▬\n\n⭐️NOC ŚWIRÓW⭐️ VIXA PARTY ⭐
 ️\nTego dnia zaserwujemy Wam muzyczny powrót do przeszłości! Podczas 
 tego melanżu stworzymy VIXE jakiej Radom jeszcze nie widział… \;) JADA
  ŚWIRY JADA…\nNa wejściu wyposażymy Was w obowiązkowe akcesoria każ
 dego szanującego się VIXIARZA :\n⚡️ BIAŁE REKAWICZKI\n⚡️ GWIZDK
 I\n⚡️ MASKI\n\nVixiarskie wydarzenie roku ! 😈\nZapraszamy gorąco v
 ixiarzy z całego województwa! 👽☢💥\nIMPREZA Z MOCNYM UDERZENIEM!\
 n\n▬▬▬▬▬▬▬▬▬▬▬▬▬▬▬▬▬▬▬▬▬▬▬
 ▬▬▬▬\nPODSUMOWANIE :\n►Data: 20.03.2020\n►Start: 21:00\n►Klu
 b : Klub Strefa G2\n►Bilety: Przedsprzedaż – 15 PLN | Bramka – 20 P
 LN\n\n▬▬▬▬▬▬▬▬▬▬▬▬▬▬▬▬▬▬▬▬▬▬
 ▬▬▬▬\n\nWejście od rocznika 04'\nPolub nasz Fanpage i bądź na b
 ieżąco - &gt\; Fabryka Melanżu Radom\nDo zobaczenia ♥
ATTACH;FMTTYPE=image/jpeg:https://night4u.pl/wp-content/uploads/2020/02/16
 6527_image_87434351_2559501014268995_8611941897050521600_o.jpg
CATEGORIES:mazowieckie
LOCATION:Sala Koncertowa W Um Radom\, Ul Żeromskiego 53\, Radom\, 26-602\,
  Poland
GEO:51.401524;21.158288
X-APPLE-STRUCTURED-LOCATION;VALUE=URI;X-ADDRESS=Ul Żeromskiego 53\, Radom\
 , 26-602\, Poland;X-APPLE-RADIUS=100;X-TITLE=Sala Koncertowa W Um Radom:ge
 o:51.401524,21.158288
END:VEVENT
BEGIN:VTIMEZONE
TZID:Europe/Warsaw
X-LIC-LOCATION:Europe/Warsaw
BEGIN:STANDARD
DTSTART:20191027T020000
TZOFFSETFROM:+0200
TZOFFSETTO:+0100
TZNAME:CET
END:STANDARD
END:VTIMEZONE
END:VCALENDAR