BEGIN:VCALENDAR
VERSION:2.0
PRODID:-//wp-events-plugin.com//7.2.3.1//EN
TZID:Europe/Warsaw
X-WR-TIMEZONE:Europe/Warsaw
BEGIN:VEVENT
UID:19696@night4u.pl
DTSTART;TZID=Europe/Warsaw:20190620T200000
DTEND;TZID=Europe/Warsaw:20190621T030000
DTSTAMP:20190619T105959Z
URL:https://night4u.pl/wydarzenia/20-06-%e2%98%85-czw-%e2%98%85-ladies-nig
 ht-x-drinki-xxl-x-k-tronic/
SUMMARY:20.06 ★ czw ★ Ladies Night x Drinki XXL x K-Tronic
DESCRIPTION:Wyjątkowa noc dla każdej Pani ❤\nNajbardziej kobieca imprez
 a na mapie Zamościa ?\nWszystkie Panie wchodzą bezpłatnie i czeka na ni
 ch wyśmienity drink w wersji XXL!\n\nLadies Night - najbardziej kobieca i
 mpreza na mapie Zamościa ?\n\nMuzyczne uniesienia zapewni K-Tronic\nBęd
 ą nowości\, kilka premier i oczywiście klubowe brzmienia\n_____________
 _____________________________________\n\nStart: 20:00 \n★ DRESS CODE ★
 \nSMART CASUAL!\n\nBilety: 0-10 PLN \nPANIE wstęp Free \nWstęp / +18 SEL
 EKCJA \nVIP CARD - wstęp Free\n__________________________________________
 ________\n★ RESERVATIONS & SOCIAL MEDIA ★\n84 639 26 26 - info i rezer
 wacje\nInstagram: https://www.instagram.com/broadway_club_zamosc/\nFaceboo
 k: https://www.facebook.com/BroadwayZamosc/\nYouTube: https://www.youtube.
 com/channel/UCWxbnJltCxH7XCAK7pugMLA\n____________________________________
 ______________\n★ CONTACT ★\nBroadway Club Zamość | Peowiaków 94\n\
 nImprezy/catering/zamówienia/restauracja i ogólne zapytania:\nbroadway.k
 lub@gmail.com
ATTACH;FMTTYPE=image/jpeg:https://night4u.pl/wp-content/uploads/2019/06/47
 444_image_64539955_3261385033887128_6305362764802031616_o.jpg
CATEGORIES:lubelskie
LOCATION:Broadway Club & Restaurant\, ul. Peowiaków 94\, Zamosc\, 22-400\,
  Poland
GEO:50.715726;23.261037
X-APPLE-STRUCTURED-LOCATION;VALUE=URI;X-ADDRESS=ul. Peowiaków 94\, Zamosc\
 , 22-400\, Poland;X-APPLE-RADIUS=100;X-TITLE=Broadway Club & Restaurant:ge
 o:50.715726,23.261037
END:VEVENT
BEGIN:VTIMEZONE
TZID:Europe/Warsaw
X-LIC-LOCATION:Europe/Warsaw
BEGIN:DAYLIGHT
DTSTART:20190331T030000
TZOFFSETFROM:+0100
TZOFFSETTO:+0200
TZNAME:CEST
END:DAYLIGHT
END:VTIMEZONE
END:VCALENDAR