BEGIN:VCALENDAR
VERSION:2.0
PRODID:-//wp-events-plugin.com//7.2.3.1//EN
TZID:Europe/Warsaw
X-WR-TIMEZONE:Europe/Warsaw
BEGIN:VEVENT
UID:21573@night4u.pl
DTSTART;TZID=Europe/Warsaw:20190720T210000
DTEND;TZID=Europe/Warsaw:20190721T050000
DTSTAMP:20190705T152008Z
URL:https://night4u.pl/wydarzenia/20-07-baccaratclub-lets-party-with-dj-bo
 nq/
SUMMARY:20.07 @Baccaratclub Let’s Party with DJ BONQ
DESCRIPTION:20.07 @Baccaratclub Let’s Party with DJ Sfistaq | MOZUL DRUMS
 \n\n\nZMOBILIZUJCIE SIŁY NA IMPREZĘ!!!\n\n Odwiedź nasz klub i na włas
 nych uszach przekonaj się jaki styl muzyczny tego wieczoru zawładnie two
 im ciałem i umysłem. Właśnie tak!!!\nPo pierwszym razie nie będziecie
  chcieli przestać.\nBo my Jesteśmy uzależniający!!\nCały czas bujamy 
 i luzujemy. Wbijajcie na parkiet\, gdy macie coś do powiedzenia – wyta
 ńczcie to.!!!!!!\n\n*\nJak zdobyć wejściówkę?\n*\nJeśli chcesz zapro
 szenie na imprezę oraz masz ochotę na powitalnego drinka od klubu\, wyś
 lij maila z: datą imprezy\, Twoim imieniem i nazwiskiem\, oraz imionami i
  nazwiskami znajomych\, których chciałbyś zabrać ze sobą na adres: IN
 FO@BACCARATCLUB.PL\n*\nBACCARAT TO MIEJSCE DLA LUDZI Z CHARAKTEREM\nLET TH
 E SHOW BEGIN!!!!!\n*\nINFO I REZERWACJA\nINFO@BACCARATCLUB.PL\nTEL :695 11
 6 760\nWWW.BACCARATCLUB.PL\nwww.baccaratmusicclub.blogspot.com\n\n \n\nWej
 scie do klubu FREE tylko z listy gosci !!!!
ATTACH;FMTTYPE=image/jpeg:https://night4u.pl/wp-content/uploads/2019/07/51
 325_image_66170253_3047194501987287_3143202073898647552_n.jpg
CATEGORIES:małopolskie
LOCATION:Baccarat Club\, ul. Stolarska 13\, Kraków\, 31-043\, Poland
GEO:50.05978;19.93865
X-APPLE-STRUCTURED-LOCATION;VALUE=URI;X-ADDRESS=ul. Stolarska 13\, Kraków\
 , 31-043\, Poland;X-APPLE-RADIUS=100;X-TITLE=Baccarat Club:geo:50.05978,19
 .93865
END:VEVENT
BEGIN:VTIMEZONE
TZID:Europe/Warsaw
X-LIC-LOCATION:Europe/Warsaw
BEGIN:DAYLIGHT
DTSTART:20190331T030000
TZOFFSETFROM:+0100
TZOFFSETTO:+0200
TZNAME:CEST
END:DAYLIGHT
END:VTIMEZONE
END:VCALENDAR