BEGIN:VCALENDAR
VERSION:2.0
PRODID:-//wp-events-plugin.com//7.2.3.1//EN
TZID:Europe/Warsaw
X-WR-TIMEZONE:Europe/Warsaw
BEGIN:VEVENT
UID:21257@night4u.pl
DTSTART;TZID=Europe/Warsaw:20190720T213000
DTEND;TZID=Europe/Warsaw:20190721T050000
DTSTAMP:20190704T192422Z
URL:https://night4u.pl/wydarzenia/20-07-tkacka-music-club-drey-chill-dj-ma
 cu/
SUMMARY:20/07 / Tkacka Music Club / DREY CHILL & DJ MACU
DESCRIPTION:******* ENGLISH DESCRIPTION BELOW *******\n\nSame dobre czarne 
 kawałki i bity.\nZabawa do samego rana.\nNajlepsza ekipa za barem i mnós
 two wspomnień następnego dnia.\nTak wyglądają soboty na Tkackiej! Widz
 imy się już od 21:30\n\nRezerwacje:\n +48 726 888 333 / kontakt@tkackacl
 ub.pl / fb msg / whatsup\n\nObowiązuje selekcja.\nLista FB - Free do 23 (
 z wejściem na resztę nocy)\nWstęp do klubu - 10 / 20 / 30 PLN\nRezerwac
 je bezpłatnie do godziny 24:00\n\n________________________\nTKACKA MUSIC 
 CLUB\nul. Tkacka 9\, 80-836\, Gdańsk\nwww.tkackaclub.pl #tkackaclub #tkac
 kamusicclub #tkacka\n\n\nWe play your favorite songs\, which you do not kn
 ow yet from URBAN music - house\, hip-hop\, remixes of the best songs play
 ed in clubs all around the world.\n\nThe Tkacka Music Club is the highest 
 clubbing quality in the Gdańsk Old Town.\n\n\nReservations:\n  +48 726 88
 8 333 / kontakt@tkackaclub.pl / fb msg / whatsup\n\n\n\n\n\n\nSelection\nF
 B LIST - Free do 23 (z wejściem na resztę nocy)\nFee - 10 / 20 / 30 PLN\
 nReservation free till 24:00\n\n________________________\nTKACKA MUSIC CLU
 B\nul. Tkacka 9\, 80-836\, Gdańsk\nwww.tkackaclub.pl #tkackaclub #tkackam
 usicclub #tkacka
ATTACH;FMTTYPE=image/jpeg:https://night4u.pl/wp-content/uploads/2019/07/50
 687_image_65918782_420155685270709_5416267142544752640_o.jpg
CATEGORIES:pomorskie
LOCATION:Tkacka Music Club Gdańsk\, ul. Tkacka 9\, Gdansk\, 80-836\, Polan
 d
GEO:54.350041;18.64889
X-APPLE-STRUCTURED-LOCATION;VALUE=URI;X-ADDRESS=ul. Tkacka 9\, Gdansk\, 80-
 836\, Poland;X-APPLE-RADIUS=100;X-TITLE=Tkacka Music Club Gdańsk:geo:54.3
 50041,18.64889
END:VEVENT
BEGIN:VTIMEZONE
TZID:Europe/Warsaw
X-LIC-LOCATION:Europe/Warsaw
BEGIN:DAYLIGHT
DTSTART:20190331T030000
TZOFFSETFROM:+0100
TZOFFSETTO:+0200
TZNAME:CEST
END:DAYLIGHT
END:VTIMEZONE
END:VCALENDAR