BEGIN:VCALENDAR
VERSION:2.0
PRODID:-//wp-events-plugin.com//7.2.3.1//EN
TZID:Europe/Warsaw
X-WR-TIMEZONE:Europe/Warsaw
BEGIN:VEVENT
UID:42559@night4u.pl
DTSTART;TZID=Europe/Warsaw:20201120T200000
DTEND;TZID=Europe/Warsaw:20201120T230000
DTSTAMP:20200424T190038Z
URL:https://night4u.pl/wydarzenia/20-11-ii-dezerter-ii-radom-strefa-g2/
SUMMARY:20.11 II Dezerter II Radom - Strefa G2
DESCRIPTION:Dezerter to zespół punkrockowy\, który powstał w Warszawie 
 w maju 1981 r. Grupa przyjęła prowokacyjną wówczas nazwę SS-20 (pocho
 dzącą od radzieckich rakiet z głowicami nuklearnymi)\, którą była zm
 uszona zmienić w okresie stanu wojennego. Już jako Dezerter zespół nag
 rał singiel „Ku przyszłości” (1983). W 1985 r. ukazały się dwie k
 ompilacje z piosenkami Dezertera: „Fala” i „Jak punk to punk”. Rok
  1987 przyniósł wydanie w USA przez Maximum Rock'n'Roll pierwszej długo
 grającej płyty Dezertera „Underground Out Of Poland” oraz pierwszej 
 (ocenzurowanej) płyty w kraju – „Kolaboracja”. Rok 1989 to kolejny 
 album – „Kolaboracja II”\, a 1990 – „Wszyscy przeciwko wszystkim
 ” (wydana w Polsce i we Francji) oraz dwumiesięczna trasa po Europie Za
 chodniej (Szwajcaria\, Niemcy\, Francja\, Holandia) i Japonii.\n\nKolejne 
 lata działalności przyniosły ważne płyty dla polskiej sceny niezależ
 nej\, m.in. „Blasfemię” (1992)\, „Ile procent duszy?” (1994)\, 
 „Mam kły mam pazury” (1996)\, „Ziemia jest płaska” (1997). W XXI
  w. ukazały się trzy studyjne albumy: „Nielegalny zabójca czasu” (2
 004)\; „Prawo do bycia idiotą” (2010)\, który został doceniony nie 
 tylko przez słuchaczy\, ale wyjątkowo również przez branżę muzyczną
 \, czego wyrazem była nagroda Fryderyk 2010\; oraz „Większy zjada mnie
 jszego” (2014). W 2016 r. po 33 latach został wznowiony singiel „Ku p
 rzyszłości”. A w lutym 2019 r. ukazał się premierowy minialbum „Ni
 enawiść 100%”.\nZespół aktywnie koncertuje nie tylko kraju\, ale ró
 wnież w wielu krajach Europy (Belgia\, Czechy\, Finlandia\, Francja\, Irl
 andia\, Niemcy\, Wielka Brytania) oraz w Stanach Zjednoczonych.\nPiosenki 
 Dezertera znalazły się na wielu składankach oraz trafiły na ścieżki 
 dźwiękowe kilku filmów (m.in. „Wałęsa. Człowiek z nadziei” w re
 ż. A. Wajdy oraz „Dom zły” w reż. W. Smarzowskiego).\nDezerter to:\
 nRobert Matera – gitara\, śpiew\nKrzysiek Grabowski – perkusja\, teks
 ty\nJacek Chrzanowski – bas\n\nDezerter online:\nwww.dezerter.com\nwww.f
 acebook.com/dezerter1981\nwww.instagram.com/dezerter_official\nwww.youtube
 .com/dezertertv\nSupport:\n Kultura Wieku Atomowego\n\nBilety w cenie 39 z
 ł dostępne na https://biletyna.pl/koncert/Dezerter/Radom\noraz w Hula Pa
 rku ul. Przemysłowa 18 (obok G2)
ATTACH;FMTTYPE=image/jpeg:https://night4u.pl/wp-content/uploads/2020/01/13
 4388_image_81776049_10157918377499525_6746880373424128000_o.jpg
CATEGORIES:mazowieckie
LOCATION:Sala Koncertowa W Um Radom\, Ul Żeromskiego 53\, Radom\, 26-602\,
  Poland
GEO:51.401524;21.158288
X-APPLE-STRUCTURED-LOCATION;VALUE=URI;X-ADDRESS=Ul Żeromskiego 53\, Radom\
 , 26-602\, Poland;X-APPLE-RADIUS=100;X-TITLE=Sala Koncertowa W Um Radom:ge
 o:51.401524,21.158288
END:VEVENT
BEGIN:VTIMEZONE
TZID:Europe/Warsaw
X-LIC-LOCATION:Europe/Warsaw
BEGIN:STANDARD
DTSTART:20201025T020000
TZOFFSETFROM:+0200
TZOFFSETTO:+0100
TZNAME:CET
END:STANDARD
END:VTIMEZONE
END:VCALENDAR