BEGIN:VCALENDAR
VERSION:2.0
PRODID:-//wp-events-plugin.com//7.2.3.1//EN
TZID:Europe/Warsaw
X-WR-TIMEZONE:Europe/Warsaw
BEGIN:VEVENT
UID:40134@night4u.pl
DTSTART;TZID=Europe/Warsaw:20191220T210000
DTEND;TZID=Europe/Warsaw:20191221T030000
DTSTAMP:20191220T084007Z
URL:https://night4u.pl/wydarzenia/20-12-dj-yooshi/
SUMMARY:20.12- Dj Yooshi
DESCRIPTION:W piątek 20.12 na dolnej sali mieszamy dwa rodzaje muzyki !\nZ
 a konsolą DJ YOOSHI !!!\n\nDla 50 pierwszych osób drink Gratis !!!\n\nWs
 tęp 10 zł\, Panie do 23: wstęp wolny\nStart 21\n\nW dniu imprezy wylosu
 jemy trzy osoby które wygrają lożę na sali klubowej\, but. wódki\, na
 pój i wejście dla 6 osób.\nWystarczy\, wykonać 3 proste kroki:\n- wzi
 ąć udział w wydarzeniu\n- zaprosić na nie min. 100 osób\n- napisać w
  komentarzu ile osób zaprosiliście\n\nPowodzenia
ATTACH;FMTTYPE=image/jpeg:https://night4u.pl/wp-content/uploads/2019/12/12
 0986_image_79425115_1650501041759523_2390215683238526976_o.jpg
CATEGORIES:mazowieckie
LOCATION:Explosion Club Radom\, ul. Wernera 10 ( róg Szarych Szeregów)\, 
 Radom\, 26-610\, Poland
GEO:51.409191;21.144698
X-APPLE-STRUCTURED-LOCATION;VALUE=URI;X-ADDRESS=ul. Wernera 10 ( róg Szary
 ch Szeregów)\, Radom\, 26-610\, Poland;X-APPLE-RADIUS=100;X-TITLE=Explosi
 on Club Radom:geo:51.409191,21.144698
END:VEVENT
BEGIN:VTIMEZONE
TZID:Europe/Warsaw
X-LIC-LOCATION:Europe/Warsaw
BEGIN:STANDARD
DTSTART:20191027T020000
TZOFFSETFROM:+0200
TZOFFSETTO:+0100
TZNAME:CET
END:STANDARD
END:VTIMEZONE
END:VCALENDAR