BEGIN:VCALENDAR
VERSION:2.0
PRODID:-//wp-events-plugin.com//7.2.3.1//EN
TZID:Europe/Warsaw
X-WR-TIMEZONE:Europe/Warsaw
BEGIN:VEVENT
UID:21474@night4u.pl
DTSTART;TZID=Europe/Warsaw:20190719T220000
DTEND;TZID=Europe/Warsaw:20190720T040000
DTSTAMP:20190705T152703Z
URL:https://night4u.pl/wydarzenia/20th-century-music-hydrozagadka-2/
SUMMARY:20th Century Music / Hydrozagadka
DESCRIPTION:W repertuarze imprezowa mieszanka pop\, rock i disco: 50’s\, 
 60’s\, 70’s\, 80’s\, 90’s :) M.in.:\nQUEEN\, BEATLES\, ABBA\, BONE
 Y M.\, MICHAEL JACKSON\, BON JOVI\, MADONNA\, BILLY JOEL\, GEORGE MICHAEL\
 , MODERN TALKING\, DR. ALBAN\, SPICE GIRLS\, RICKY MARTIN\, HADDAWAY\, MC 
 HAMMER\, SNAP\, OFFSPRING i wiele innych.\n\nWszystkich miłośników dobr
 ej zabawy w klimacie retro zapraszamy do Hybryd – klubu z wieloletnią t
 radycją ulokowanego w ścisłym centrum Warszawy. Imprezujemy przy najwi
 ększych perełkach\, jakie wydała na świat muzyka rozrywkowa w latach 1
 954-1999 :) Jeśli nużą Cię miałkie wytwory współczesnego rynku muzy
 cznego\, a uwielbiasz bawić się na klubowym parkiecie\, to z pewnością
  impreza dla Ciebie!\n\n**\n\nHYDROZAGADKA\, ul. 11 Listopada 22\n\nStart:
  22.00\n\nBilety: \n0pln – lista FB* do godz.23\n10pln – lista FB*\n15
 pln – pozostali \n\n* Aby zapewnić sobie wejściówkę w cenie 10pln (l
 ub darmową do godz.23) wystarczy oznaczyć się na stronie wydarzenia jak
 o osoba biorąca udział. Listę zamykamy w dniu imprezy o godz.18.\n\n***
 \n\nZapraszają:\n\nRETRO LOVERS\nhttps://www.facebook.com/RetroLoversWars
 aw/\n\nHYDROZAGADKA\nhttps://www.facebook.com/klubhydrozagadka/
ATTACH;FMTTYPE=image/jpeg:https://night4u.pl/wp-content/uploads/2019/07/51
 161_image_66059868_381604159152975_7207730149536563200_o.jpg
CATEGORIES:mazowieckie
LOCATION:Remont: Reaktywacja Legendy\, ul. Waryńskiego 12a\, Warsaw\, 00-6
 31\, Poland
GEO:52.216877;21.016427
X-APPLE-STRUCTURED-LOCATION;VALUE=URI;X-ADDRESS=ul. Waryńskiego 12a\, Wars
 aw\, 00-631\, Poland;X-APPLE-RADIUS=100;X-TITLE=Remont: Reaktywacja Legend
 y:geo:52.216877,21.016427
END:VEVENT
BEGIN:VTIMEZONE
TZID:Europe/Warsaw
X-LIC-LOCATION:Europe/Warsaw
BEGIN:DAYLIGHT
DTSTART:20190331T030000
TZOFFSETFROM:+0100
TZOFFSETTO:+0200
TZNAME:CEST
END:DAYLIGHT
END:VTIMEZONE
END:VCALENDAR