BEGIN:VCALENDAR
VERSION:2.0
PRODID:-//wp-events-plugin.com//7.2.3.1//EN
TZID:Europe/Warsaw
X-WR-TIMEZONE:Europe/Warsaw
BEGIN:VEVENT
UID:47485@night4u.pl
DTSTART;TZID=Europe/Warsaw:20200221T210000
DTEND;TZID=Europe/Warsaw:20200222T040000
DTSTAMP:20200221T230958Z
URL:https://night4u.pl/wydarzenia/21-02-3-lejdis-panie-pija-za-free-paul-m
 ike-b/
SUMMARY:21.02 &lt\;3 Lejdis - Panie piją za Free \\ Paul &amp\; Mike B
DESCRIPTION:LEJDIS\, czyli PANIE PRZODEM ❗💋\n\nJuż 21 lutego startuje
 my z kolejną odsłoną najbardziej kobiecej imprezy w mieście ♥\nPozna
 j grupę naszych pięknych ambasadorek\, które wraz z koleżankami stworz
 ą prawdziwy #babskiwieczor – czas na ploteczki przy drinku⁉😘\n\nJe
 śli kobiety są lekiem na całe zło\, to my przygotujemy dla Was iście 
 babską imprezę\, którą dopniemy na #ostatniguzik – zostawcie męża 
 z dzieckiem\, wyślijcie chłopaków po zakupy\, a WY – DROGIE Panie stw
 órzcie sobie strefę komfortu – TEJ NOCY macie czuć się SWOBODNIE ♥
  O muzyczne doznania zadba naszych dwóch nowych przystojniaków kojarzony
 ch z podrywania dziewczyn we wszystkich zakątkach w kraju - DJ PAUL i MIK
 E B zaserwują Wam prawdziwie muzyczny poczęstunek - będzie pysznie❗
 😈\n\nNowy podkład nie leży? Otworzyło się nowe solarium? Marysia z 
 Pierwszej Miłości wróci do Pawła⁉🤔 Ploty i ploteczki\, czyli anti
 dotum na zimową nudę i nieudane zakupy są tej nocy WSKAZANE 😍\n\nNic
 zym Bridget Jones zapiszcie sobie lutowy piątek w dzienniczkach\, siódem
 ka jest szczęśliwa ❗😎\n\nDo zobaczenia dziewczyny - TEJ NOCY PIJECI
 E ZA FREE ♥\n\n---------------------------------------------------------
 -----------------\n\n💅 Tej nocy Panie wchodzą za FREE\n👩‍❤‍
 👩 Darmowe drinki dla Pań 23:00-24:00\n❤  Panowie wejście 20 pln\n\n
 ------------------------------------\n\nRezerwacja loży / bilety\n\n📞 
  518820320\n📨  rezerwacje@ultravioletclub\n\nKlub zastrzega sobie prawo
  do selekcji gości.
ATTACH;FMTTYPE=image/jpeg:https://night4u.pl/wp-content/uploads/2020/02/15
 9188_image_86499234_2744084982305381_7319089602025750528_o.jpg
CATEGORIES:świętokrzyskie
LOCATION:UltraViolet - Exclusive Club\, ul. Sienkiewicza 33\, Kielce\, 25-0
 05\, Poland
GEO:50.87148;20.62637
X-APPLE-STRUCTURED-LOCATION;VALUE=URI;X-ADDRESS=ul. Sienkiewicza 33\, Kielc
 e\, 25-005\, Poland;X-APPLE-RADIUS=100;X-TITLE=UltraViolet - Exclusive Clu
 b:geo:50.87148,20.62637
END:VEVENT
BEGIN:VTIMEZONE
TZID:Europe/Warsaw
X-LIC-LOCATION:Europe/Warsaw
BEGIN:STANDARD
DTSTART:20191027T020000
TZOFFSETFROM:+0200
TZOFFSETTO:+0100
TZNAME:CET
END:STANDARD
END:VTIMEZONE
END:VCALENDAR