BEGIN:VCALENDAR
VERSION:2.0
PRODID:-//wp-events-plugin.com//7.2.3.1//EN
TZID:Europe/Warsaw
X-WR-TIMEZONE:Europe/Warsaw
BEGIN:VEVENT
UID:50219@night4u.pl
DTSTART;TZID=Europe/Warsaw:20200321T220000
DTEND;TZID=Europe/Warsaw:20200322T030000
DTSTAMP:20200318T184207Z
URL:https://night4u.pl/wydarzenia/21-03-incognito-secret-party/
SUMMARY:21.03 Incognito Secret Party
DESCRIPTION:Puść wodze wyobraźni i stań się kim tylko chcesz... Oto na
 dchodzi INCOGNITO Secret Party 🎭\n\nZałóż maskę\, poczuj się tajem
 niczo i pozwól sobie na wieczór bez ograniczeń ✨ Tańcz\, jakby nikt 
 nie patrzył. Baw się\, jakby jutro miało nie istnieć! ✨\n\nZagra dla
  Ciebie DJ Paragraph 51 🔥\n\n✨W sprawach rezerwacji napisz do nas wia
 domość.\n✨Jest wiele klubów\, ale Unique jest tylko jeden! \n✨Start
  godz. 22:00 / obowiązuje selekcja/ wstęp od 21 lat
ATTACH;FMTTYPE=image/jpeg:https://night4u.pl/wp-content/uploads/2020/03/17
 5698_image_89518923_3799093513442864_3574283371552964608_o.jpg
CATEGORIES:pomorskie
LOCATION:UNIQUE Club &amp\; Lounge Sopot\, Plac Zdrojowy 1\, Sopot\, 81-720
 \, Poland
GEO:54.445172;18.569209
X-APPLE-STRUCTURED-LOCATION;VALUE=URI;X-ADDRESS=Plac Zdrojowy 1\, Sopot\, 8
 1-720\, Poland;X-APPLE-RADIUS=100;X-TITLE=UNIQUE Club & Lounge Sopot:geo:5
 4.445172,18.569209
END:VEVENT
BEGIN:VTIMEZONE
TZID:Europe/Warsaw
X-LIC-LOCATION:Europe/Warsaw
BEGIN:STANDARD
DTSTART:20191027T020000
TZOFFSETFROM:+0200
TZOFFSETTO:+0100
TZNAME:CET
END:STANDARD
END:VTIMEZONE
END:VCALENDAR